Workbook

Sheet STT_2026_00022
C3: APPALTO | D3: MANUTENZIONE ORDINARIA SEGNALETICA VERTICALE E ORIZZONTALE 2026_2027
C4: CUP | D4: ---
C5: CIG | D5: BCCBDF0B1F
C7: Importo | D7: 80688 | F7: RUOLI | G7: INCARICATO | H7: QUOTA | I7: IMPORTO Lordo | J7: CHECK VALUE | M7: Controllo TEMPISTICHE
C8: Aliquota | D8: =IF(D7<=221000,0.02,0)+IF(D7>221000,0.018,0)+IF(D7>1000001,0.016-0.018,0)+IF(D7>3000001,0.014-0.016,0)+IF(D7>5000000,0.012-0.014,0) -> 0.02 | F8: RUP | G8: LEONE Luca | H8: =0.3-H9-H10 -> 0.23 | I8: =IF($D$18=NOMINATIVI!$E$4,$D$10*H8*0.8,$D$10*H8*0.8*0.7) -> 296.93184 | J8: =_xlfn.IFS(H8<0,NOMINATIVI!$H$29,H8>0.3,NOMINATIVI!$H$29,H8<0.3,NOMINATIVI!$H$28,H8>0,NOMINATIVI!$H$28) -> √ | M8: Fase | N8: Avvio | O8: Termine | P8: Check | R8: Varizione | S8: Note | W8: Riduzione
F9: =IF(H9=0,NOMINATIVI!I7,NOMINATIVI!H7) -> _RP AFFIDAMENTO (*) | G9: LEONE Luca | H9: 0.02 | I9: =IF($D$18=NOMINATIVI!$E$4,$D$10*H9*0.8,$D$10*H9*0.8*0.7) -> 25.82016 | J9: =IF(H9>30/100,NOMINATIVI!$H$29,NOMINATIVI!$H$28) -> √ | M9: programmazione | N9: 46174 | O9: 46193 | P9: 46196 | R9: =+(P9-N9)/(O9-N9)-1 -> 0.15789474 | X9: 0.1
C10: INCENTIVO art. 45 | D10: =IF(D7<50000,0,D7*D8) -> 1613.76 | F10: =IF(H10=0,NOMINATIVI!I8,NOMINATIVI!H8) -> _RP ESECUZIONE (*) | G10: TROIANI Claudia | H10: 0.05 | I10: =IF($D$18=NOMINATIVI!$E$4,$D$10*H10*0.8,$D$10*H10*0.8*0.7) -> 64.5504 | J10: =IF(H10>30/100,NOMINATIVI!$H$29,NOMINATIVI!$H$28) -> √ | M10: progetto | N10: 46197 | O10: 46218 | P10: 46221 | Q10: =+(P10-N10)/(O10-N10)-1 -> 0.14285714 | W10: //// | X10: 0.3
C11: di cui Quota 20% - INCREMENTATA in funzione degli art. 4 & 5 del regolamento | D11: =D10-I28 -> 336.95309 | F11: PSI | G11: LEONE Luca | H11: =0.05 -> 0.05 | I11: =IF($D$18=NOMINATIVI!$E$4,$D$10*H11*0.8,$D$10*H11*0.8*0.5) -> 64.5504 | J11: n/a | M11: verifica | N11: 46222 | O11: 46232 | P11: 46234 | Q11: =+(P11-N11)/(O11-N11)-1 -> 0.2 | R11: =SUM(Q10,Q11,Q12,) -> 0.48571429 | X11: 0.5
B12: (**) | F12: PG | G12: LEONE Luca | H12: =IF(G12=NOMINATIVI!B37,0,0.1-H13-H14) -> 0.1 | I12: =IF($D$18=NOMINATIVI!$E$4,$D$10*H12*0.8,$D$10*H12*0.8*0.8) -> 129.1008 | J12: =_xlfn.IFS(H12<0,NOMINATIVI!$H$29,H12>0.1,NOMINATIVI!$H$29,H12<0.1,NOMINATIVI!$H$28,H12>0,NOMINATIVI!$H$28) -> √ | M12: gara | N12: 46244 | O12: 46258 | P12: 46260 | Q12: =+(P12-N12)/(O12-N12)-1 -> 0.14285714 | W12: ////
B13: (**) | C13: di cui Quota 80% - erogabile | D13: =I28 -> 1276.8069 | G13: - | H13: 0 | I13: =IF($D$18=NOMINATIVI!$E$4,$D$10*H13*0.8,$D$10*H13*0.8*0.8) -> 0 | J13: =IF(H13>10/100,NOMINATIVI!$H$29,NOMINATIVI!$H$28) -> √ | M13: servizio | N13: 46266 | O13: 46234 | P13: 46266 | R13: =+(P13-N13)/(O13-N13)-1 -> -1
C14: IRAP a carico dell'ente secondo delibera N. 103/2026/PAR sezione regionale Lombardia della Corte dei Conti | D14: =+K119 -> 87.29 | G14: - | H14: 0 | I14: =IF($D$18=NOMINATIVI!$E$4,$D$10*H14*0.8,$D$10*H14*0.8*0.8) -> 0 | J14: =IF(H14>10/100,NOMINATIVI!$H$29,NOMINATIVI!$H$28) -> √ | M14: Totale Giorni | N14: =-(N9-O9)+-(N10-O10)+-(N11-O11)+-(N12-O12)+-(N13-O13) -> 32 | P14: =-(N9-P9)+-(N10-P10)+-(N11-P11)+-(N12-P12)+-(N13-P13) -> 74 | R14: =P14/N14 -> 2.3125
F15: VPCPA | G15: =G8 -> LEONE Luca | H15: =IF(G15=G8,0.05*0.9,0.05) -> 0.045 | I15: =IF($D$18=NOMINATIVI!$E$4,$D$10*H15*0.8,$D$10*H15*0.8*0) -> 58.09536 | J15: n/a
F16: VPCPA o (CUC) | G16: LEONE Luca | H16: =IF(G16=G8,(0.15)*0.9*0.4,0.15) -> 0.054 | I16: =IF($D$18=NOMINATIVI!$E$4,$D$10*H16*0.8,$D$10*H16*0.8*0) -> 69.714432 | J16: n/a
G17: LEONE Luca | H17: =IF(G16=G8,0.045-H18,0) -> 0.045 | I17: =IF($D$18=NOMINATIVI!$E$4,$D$10*H17*0.8,$D$10*H17*0.8*0) -> 58.09536 | J17: n/a
C18: CONSIP | D18: NO | G18: - | H18: 0 | I18: =IF($D$18=NOMINATIVI!$E$4,$D$10*H18*0.8,$D$10*H18*0.8*0) -> 0 | J18: =IF(H18>4.5/100,NOMINATIVI!$H$29,NOMINATIVI!$H$28) -> √ | M18: Controllo COSTI
G19: TROIANI Claudia | H19: =IF(G16=G8,0.045-H20,0) -> 0.045 | I19: =IF($D$18=NOMINATIVI!$E$4,$D$10*H19*0.8,$D$10*H19*0.8*0) -> 58.09536 | J19: n/a | M19: Previsionale | O19: Consuntivo | R19: Var % | T19: La presente rendicontazione redatta come scheda ai sensi dell'art.7 del regolamento e successivamente trasmessa all'O.I.V & R.S.U dal servizio Personale con cadenza Annuale per costituire documentazione utile alla valutazione del Dirigente Interessato
G20: - | H20: 0 | I20: =IF($D$18=NOMINATIVI!$E$4,$D$10*H20*0.8,$D$10*H20*0.8*0) -> 0 | J20: =IF(H20>4.5/100,NOMINATIVI!$H$29,NOMINATIVI!$H$28) -> √ | M20: =D7 -> 80688 | O20: 0 | R20: =(O20/M20)-1 -> -1
C21: (**) ripartizione rimodulata ai sensi dell'art. 2 c.7 del Regolamento | F21: DEC | G21: LOIACONO Graziana | H21: =IF(G21=NOMINATIVI!B37,0,IF(G21=G8,(0.25-H23-H24-H22)*0.9,0.25-H23-H24-H22)) -> 0.25 | I21: =$D$10*H21*0.8 -> 322.752 | J21: =_xlfn.IFS(H21<0,NOMINATIVI!$H$29,H21>0.25,NOMINATIVI!$H$29,H21<0.25,NOMINATIVI!$H$28,H21>0,NOMINATIVI!$H$28) -> √ | M21: Motivazioni
G22: - | H22: 0 | I22: =IF(G22=NOMINATIVI!B36,($D$10*H22*0.8*0),($D$10*H22*0.8)) -> 0 | J22: =IF(H22>25/100,NOMINATIVI!$H$29,NOMINATIVI!$H$28) -> √
C23: (***) quota determinata nel rispetto delle riduzioni ed abbattimenti dell'art. 4 e 9 del Regolamento | G23: - | H23: 0 | I23: =IF(G23=NOMINATIVI!B37,($D$10*H23*0.8*0),($D$10*H23*0.8)) -> 0 | J23: =IF(H23>25/100,NOMINATIVI!$H$29,NOMINATIVI!$H$28) -> √
F24: =IF(H24=0,NOMINATIVI!I11,NOMINATIVI!H11) -> n/a | G24: - | H24: 0 | I24: =IF(G24=NOMINATIVI!B37,($D$10*H24*0.8*0),($D$10*H24*0.8)) -> 0 | J24: =IF(H24>25/100,NOMINATIVI!$H$29,NOMINATIVI!$H$28) -> √
C25: (*) l'eventuale individuazione della risorsa è rimessa alla fase specifica con attribuzione dell'aliquota di competenza, valutata in funzione della complessità, strategicità e valore dell'intervento quale quota-parte dell'aliquota complessiva prevista per l'attività. | F25: CS | G25: TROIANI Claudia | H25: =0.1-H26-H27 -> 0.1 | I25: =IF($D$18=NOMINATIVI!$E$4,$D$10*H25*0.8,$D$10*H25*0.8*0.5) -> 129.1008 | J25: =_xlfn.IFS(H25<0,NOMINATIVI!$H$29,H25>0.1,NOMINATIVI!$H$29,H25<0.1,NOMINATIVI!$H$28,H25>0,NOMINATIVI!$H$28) -> √
G26: - | H26: 0 | I26: =IF($D$18=NOMINATIVI!$E$4,$D$10*H26*0.8,$D$10*H26*0.8*0.5) -> 0 | J26: =IF(H26>10/100,NOMINATIVI!$H$29,NOMINATIVI!$H$28) -> √
G27: - | H27: 0 | I27: =IF($D$18=NOMINATIVI!$E$4,$D$10*H27*0.8,$D$10*H27*0.8*0.5) -> 0 | J27: =IF(H27>10/100,NOMINATIVI!$H$29,NOMINATIVI!$H$28) -> √
G28: (***) | H28: =SUM(H8:H27) -> 0.989 | I28: =SUM(I8:I27) -> 1276.8069
C31: Fase di PROGRAMMAZIONE
C32: RUOLI | D32: Incaricato | E32: Quota FASE | F32: IMPORTO Lordo | G32: Inps/cpdel | H32: Irap | I32: Inail | J32: LIQUIDABILE | M32: =G8 -> LEONE Luca
C33: RUP | D33: =G8 -> LEONE Luca | E33: 0.5 | F33: =_xlfn.IFS($W$9=$X$9,E33*I8*0.9,$W$9=$X$10,E33*I8*0.7,$W$9=$X$11,E33*I8*0.5,$W$9=$X$12,E33*I8) -> 148.46592 | G33: =TRUNC(IF(COUNTIF(NOMINATIVI!$S$5:$S$28,D33)>0,F33*23.8/NOMINATIVI!$H$36,F33*23.8/NOMINATIVI!$H$35),4) -> 28.4637 | H33: =TRUNC(J33*8.5/100,3) -> 10.166 | I33: =TRUNC(IF(COUNTIF(NOMINATIVI!$S$5:$S$28,D33)>0,F33*NOMINATIVI!$K$36/NOMINATIVI!$H$36,F33*NOMINATIVI!$K$35/NOMINATIVI!$H$35),2) -> 0.4 | J33: =F33-G33-I33 -> 119.60222 | M33: CUC
C34: _RP AFFIDAMENTO | D34: =G9 -> LEONE Luca | F34: =_xlfn.IFS($W$9=$X$9,E34*I9*0.9,$W$9=$X$10,E34*I9*0.7,$W$9=$X$11,E34*I9*0.5,$W$9=$X$12,E34*I9) -> 0 | G34: =TRUNC(IF(COUNTIF(NOMINATIVI!$S$5:$S$28,D34)>0,F34*23.8/NOMINATIVI!$H$36,F34*23.8/NOMINATIVI!$H$35),4) -> 0 | H34: =TRUNC(J34*8.5/100,3) -> 0 | I34: =TRUNC(IF(COUNTIF(NOMINATIVI!$S$5:$S$28,D34)>0,F34*NOMINATIVI!$K$36/NOMINATIVI!$H$36,F34*NOMINATIVI!$K$35/NOMINATIVI!$H$35),2) -> 0 | J34: =F34-G34-I34 -> 0
C35: _RP ESECUZIONE | D35: =G10 -> TROIANI Claudia | F35: =_xlfn.IFS($W$9=$X$9,E35*I10*0.9,$W$9=$X$10,E35*I10*0.7,$W$9=$X$11,E35*I10*0.5,$W$9=$X$12,E35*I10) -> 0 | G35: =TRUNC(IF(COUNTIF(NOMINATIVI!$S$5:$S$28,D35)>0,F35*23.8/NOMINATIVI!$H$36,F35*23.8/NOMINATIVI!$H$35),4) -> 0 | H35: =TRUNC(J35*8.5/100,3) -> 0 | I35: =TRUNC(IF(COUNTIF(NOMINATIVI!$S$5:$S$28,D35)>0,F35*NOMINATIVI!$K$36/NOMINATIVI!$H$36,F35*NOMINATIVI!$K$35/NOMINATIVI!$H$35),2) -> 0 | J35: =F35-G35-I35 -> 0
C36: PSI | D36: =G11 -> LEONE Luca | E36: 1 | F36: =_xlfn.IFS($W$9=$X$9,E36*I11*0.9,$W$9=$X$10,E36*I11*0.7,$W$9=$X$11,E36*I11*0.5,$W$9=$X$12,E36*I11) -> 64.5504 | G36: =TRUNC(IF(COUNTIF(NOMINATIVI!$S$5:$S$28,D36)>0,F36*23.8/NOMINATIVI!$H$36,F36*23.8/NOMINATIVI!$H$35),4) -> 12.3755 | H36: =TRUNC(J36*8.5/100,3) -> 4.42 | I36: =TRUNC(IF(COUNTIF(NOMINATIVI!$S$5:$S$28,D36)>0,F36*NOMINATIVI!$K$36/NOMINATIVI!$H$36,F36*NOMINATIVI!$K$35/NOMINATIVI!$H$35),2) -> 0.17 | J36: =F36-G36-I36 -> 52.0049
C37: PG | D37: =G12 -> LEONE Luca | E37: 0.3 | F37: =_xlfn.IFS($W$9=$X$9,0.3*I12*0.9,$W$9=$X$10,0.3*I12*0.7,$W$9=$X$11,0.3*I12*0.5,$W$9=$X$12,0.3*I12) -> 38.73024 | G37: =TRUNC(IF(COUNTIF(NOMINATIVI!$S$5:$S$28,D37)>0,F37*23.8/NOMINATIVI!$H$36,F37*23.8/NOMINATIVI!$H$35),4) -> 7.4253 | H37: =TRUNC(J37*8.5/100,3) -> 2.652 | I37: =TRUNC(IF(COUNTIF(NOMINATIVI!$S$5:$S$28,D37)>0,F37*NOMINATIVI!$K$36/NOMINATIVI!$H$36,F37*NOMINATIVI!$K$35/NOMINATIVI!$H$35),2) -> 0.1 | J37: =F37-G37-I37 -> 31.20494
D38: =G13 -> - | F38: =_xlfn.IFS($W$9=$X$9,0.3*I13*0.9,$W$9=$X$10,0.3*I13*0.7,$W$9=$X$11,0.3*I13*0.5,$W$9=$X$12,0.3*I13) -> 0 | G38: =TRUNC(IF(COUNTIF(NOMINATIVI!$S$5:$S$28,D38)>0,F38*23.8/NOMINATIVI!$H$36,F38*23.8/NOMINATIVI!$H$35),4) -> 0 | H38: =TRUNC(J38*8.5/100,3) -> 0 | I38: =TRUNC(IF(COUNTIF(NOMINATIVI!$S$5:$S$28,D38)>0,F38*NOMINATIVI!$K$36/NOMINATIVI!$H$36,F38*NOMINATIVI!$K$35/NOMINATIVI!$H$35),2) -> 0 | J38: =F38-G38-I38 -> 0
D39: =G14 -> - | F39: =_xlfn.IFS($W$9=$X$9,0.3*I14*0.9,$W$9=$X$10,0.3*I14*0.7,$W$9=$X$11,0.3*I14*0.5,$W$9=$X$12,0.3*I14) -> 0 | G39: =TRUNC(IF(COUNTIF(NOMINATIVI!$S$5:$S$28,D39)>0,F39*23.8/NOMINATIVI!$H$36,F39*23.8/NOMINATIVI!$H$35),4) -> 0 | H39: =TRUNC(J39*8.5/100,3) -> 0 | I39: =TRUNC(IF(COUNTIF(NOMINATIVI!$S$5:$S$28,D39)>0,F39*NOMINATIVI!$K$36/NOMINATIVI!$H$36,F39*NOMINATIVI!$K$35/NOMINATIVI!$H$35),2) -> 0 | J39: =F39-G39-I39 -> 0
C40: VPCPA | D40: =G15 -> LEONE Luca | E40: 0 | F40: =IF($W$9=$X$9,(I15*E40)*0.9,I15*E40) -> 0 | G40: =TRUNC(IF(COUNTIF(NOMINATIVI!$S$5:$S$28,D40)>0,F40*23.8/NOMINATIVI!$H$36,F40*23.8/NOMINATIVI!$H$35),4) -> 0 | H40: =TRUNC(J40*8.5/100,3) -> 0 | I40: =TRUNC(IF(COUNTIF(NOMINATIVI!$S$5:$S$28,D40)>0,F40*NOMINATIVI!$K$36/NOMINATIVI!$H$36,F40*NOMINATIVI!$K$35/NOMINATIVI!$H$35),2) -> 0 | J40: =F40-G40-I40 -> 0
C41: VPCPAcuc | D41: =G16 -> LEONE Luca | E41: 0 | F41: =IF($W$9=$X$9,(I16*E41)*0.9,I16*E41) -> 0 | G41: =TRUNC(IF(COUNTIF(NOMINATIVI!$S$5:$S$28,D41)>0,F41*23.8/NOMINATIVI!$H$36,F41*23.8/NOMINATIVI!$H$35),4) -> 0 | H41: =TRUNC(J41*8.5/100,3) -> 0 | I41: =TRUNC(IF(COUNTIF(NOMINATIVI!$S$5:$S$28,D41)>0,F41*NOMINATIVI!$K$36/NOMINATIVI!$H$36,F41*NOMINATIVI!$K$35/NOMINATIVI!$H$35),2) -> 0 | J41: =F41-G41-I41 -> 0
D42: =G17 -> LEONE Luca | F42: =IF($W$9=$X$9,(I17*E42)*0.9,I17*E42) -> 0 | G42: =TRUNC(IF(COUNTIF(NOMINATIVI!$S$5:$S$28,D42)>0,F42*23.8/NOMINATIVI!$H$36,F42*23.8/NOMINATIVI!$H$35),4) -> 0 | H42: =TRUNC(J42*8.5/100,3) -> 0 | I42: =TRUNC(IF(COUNTIF(NOMINATIVI!$S$5:$S$28,D42)>0,F42*NOMINATIVI!$K$36/NOMINATIVI!$H$36,F42*NOMINATIVI!$K$35/NOMINATIVI!$H$35),2) -> 0 | J42: =F42-G42-I42 -> 0
F43: =IF($W$9=$X$9,(I18*E43)*0.9,I18*E43) -> 0 | G43: =TRUNC(IF(COUNTIF(NOMINATIVI!$S$5:$S$28,D43)>0,F43*23.8/NOMINATIVI!$H$36,F43*23.8/NOMINATIVI!$H$35),4) -> 0 | H43: =TRUNC(J43*8.5/100,3) -> 0 | I43: =TRUNC(IF(COUNTIF(NOMINATIVI!$S$5:$S$28,D43)>0,F43*NOMINATIVI!$K$36/NOMINATIVI!$H$36,F43*NOMINATIVI!$K$35/NOMINATIVI!$H$35),2) -> 0 | J43: =F43-G43-I43 -> 0
F44: =IF($W$9=$X$9,(I19*E44)*0.9,I19*E44) -> 0 | G44: =TRUNC(IF(COUNTIF(NOMINATIVI!$S$5:$S$28,D44)>0,F44*23.8/NOMINATIVI!$H$36,F44*23.8/NOMINATIVI!$H$35),4) -> 0 | H44: =TRUNC(J44*8.5/100,3) -> 0 | I44: =TRUNC(IF(COUNTIF(NOMINATIVI!$S$5:$S$28,D44)>0,F44*NOMINATIVI!$K$36/NOMINATIVI!$H$36,F44*NOMINATIVI!$K$35/NOMINATIVI!$H$35),2) -> 0 | J44: =F44-G44-I44 -> 0
D45: =G19 -> TROIANI Claudia | F45: =IF($W$9=$X$9,(I20*E45)*0.9,I20*E45) -> 0 | G45: =TRUNC(IF(COUNTIF(NOMINATIVI!$S$5:$S$28,D45)>0,F45*23.8/NOMINATIVI!$H$36,F45*23.8/NOMINATIVI!$H$35),4) -> 0 | H45: =TRUNC(J45*8.5/100,3) -> 0 | I45: =TRUNC(IF(COUNTIF(NOMINATIVI!$S$5:$S$28,D45)>0,F45*NOMINATIVI!$K$36/NOMINATIVI!$H$36,F45*NOMINATIVI!$K$35/NOMINATIVI!$H$35),2) -> 0 | J45: =F45-G45-I45 -> 0
C46: DEC | D46: =G21 -> LOIACONO Graziana | E46: 0 | F46: =IF($W$9=$X$9,(I21*E46)*0.9,I21*E46) -> 0 | G46: =TRUNC(IF(COUNTIF(NOMINATIVI!$S$5:$S$28,D46)>0,F46*23.8/NOMINATIVI!$H$36,F46*23.8/NOMINATIVI!$H$35),4) -> 0 | H46: =TRUNC(J46*8.5/100,3) -> 0 | I46: =TRUNC(IF(COUNTIF(NOMINATIVI!$S$5:$S$28,D46)>0,F46*NOMINATIVI!$K$36/NOMINATIVI!$H$36,F46*NOMINATIVI!$K$35/NOMINATIVI!$H$35),2) -> 0 | J46: =F46-G46-I46 -> 0
C47: _DIRETTORE OPEARTIVI | D47: =G22 -> - | F47: =IF($W$9=$X$9,(I22*E47)*0.9,I22*E47) -> 0 | G47: =TRUNC(IF(COUNTIF(NOMINATIVI!$S$5:$S$28,D47)>0,F47*23.8/NOMINATIVI!$H$36,F47*23.8/NOMINATIVI!$H$35),4) -> 0 | H47: =TRUNC(J47*8.5/100,3) -> 0 | I47: =TRUNC(IF(COUNTIF(NOMINATIVI!$S$5:$S$28,D47)>0,F47*NOMINATIVI!$K$36/NOMINATIVI!$H$36,F47*NOMINATIVI!$K$35/NOMINATIVI!$H$35),2) -> 0 | J47: =F47-G47-I47 -> 0
C48: _DIRETTORE OPEARTIVI | D48: =G23 -> - | F48: =IF($W$9=$X$9,(I23*E48)*0.9,I23*E48) -> 0 | G48: =TRUNC(IF(COUNTIF(NOMINATIVI!$S$5:$S$28,D48)>0,F48*23.8/NOMINATIVI!$H$36,F48*23.8/NOMINATIVI!$H$35),4) -> 0 | H48: =TRUNC(J48*8.5/100,3) -> 0 | I48: =TRUNC(IF(COUNTIF(NOMINATIVI!$S$5:$S$28,D48)>0,F48*NOMINATIVI!$K$36/NOMINATIVI!$H$36,F48*NOMINATIVI!$K$35/NOMINATIVI!$H$35),2) -> 0 | J48: =F48-G48-I48 -> 0
C49: _VERIFICA CONF. (*) | D49: =G24 -> - | F49: =IF($W$9=$X$9,(I24*E49)*0.9,I24*E49) -> 0 | G49: =TRUNC(IF(COUNTIF(NOMINATIVI!$S$5:$S$28,D49)>0,F49*23.8/NOMINATIVI!$H$36,F49*23.8/NOMINATIVI!$H$35),4) -> 0 | H49: =TRUNC(J49*8.5/100,3) -> 0 | I49: =TRUNC(IF(COUNTIF(NOMINATIVI!$S$5:$S$28,D49)>0,F49*NOMINATIVI!$K$36/NOMINATIVI!$H$36,F49*NOMINATIVI!$K$35/NOMINATIVI!$H$35),2) -> 0 | J49: =F49-G49-I49 -> 0
C50: CS | D50: =G25 -> TROIANI Claudia | E50: 0.2 | F50: =_xlfn.IFS($W$9=$X$9,E50*I25*0.9,$W$9=$X$10,E50*I25*0.7,$W$9=$X$11,E50*I25*0.5,$W$9=$X$12,E50*I25) -> 25.82016 | G50: =TRUNC(IF(COUNTIF(NOMINATIVI!$S$5:$S$28,D50)>0,F50*23.8/NOMINATIVI!$H$36,F50*23.8/NOMINATIVI!$H$35),4) -> 4.9502 | H50: =TRUNC(J50*8.5/100,3) -> 1.767 | I50: =TRUNC(IF(COUNTIF(NOMINATIVI!$S$5:$S$28,D50)>0,F50*NOMINATIVI!$K$36/NOMINATIVI!$H$36,F50*NOMINATIVI!$K$35/NOMINATIVI!$H$35),2) -> 0.07 | J50: =F50-G50-I50 -> 20.79996
D51: =G26 -> - | F51: =_xlfn.IFS($W$9=$X$9,0.2*I26*0.9,$W$9=$X$10,0.2*I26*0.7,$W$9=$X$11,0.2*I26*0.5,$W$9=$X$12,0.2*I26) -> 0 | G51: =TRUNC(IF(COUNTIF(NOMINATIVI!$S$5:$S$28,D51)>0,F51*23.8/NOMINATIVI!$H$36,F51*23.8/NOMINATIVI!$H$35),4) -> 0 | H51: =TRUNC(J51*8.5/100,3) -> 0 | I51: =TRUNC(IF(COUNTIF(NOMINATIVI!$S$5:$S$28,D51)>0,F51*NOMINATIVI!$K$36/NOMINATIVI!$H$36,F51*NOMINATIVI!$K$35/NOMINATIVI!$H$35),2) -> 0 | J51: =F51-G51-I51 -> 0
D52: =G27 -> - | F52: =_xlfn.IFS($W$9=$X$9,0.2*I27*0.9,$W$9=$X$10,0.2*I27*0.7,$W$9=$X$11,0.2*I27*0.5,$W$9=$X$12,0.2*I27) -> 0 | G52: =TRUNC(IF(COUNTIF(NOMINATIVI!$S$5:$S$28,D52)>0,F52*23.8/NOMINATIVI!$H$36,F52*23.8/NOMINATIVI!$H$35),4) -> 0 | H52: =TRUNC(J52*8.5/100,3) -> 0 | I52: =TRUNC(IF(COUNTIF(NOMINATIVI!$S$5:$S$28,D52)>0,F52*NOMINATIVI!$K$36/NOMINATIVI!$H$36,F52*NOMINATIVI!$K$35/NOMINATIVI!$H$35),2) -> 0 | J52: =F52-G52-I52 -> 0
C54: AFFIDAMENTO
C55: RUOLI | D55: Incaricato | E55: Quota FASE | F55: IMPORTO Lordo | G55: Inps/cpdel | H55: Irap | I55: Inail | J55: LIQUIDABILE
C56: RUP | D56: =G8 -> LEONE Luca | E56: 0.3 | F56: =_xlfn.IFS($W$11=$X$9,E56*I8*0.9,$W$11=$X$10,E56*I8*0.7,$W$11=$X$11,E56*I8*0.5,$W$11=$X$12,E56*I8) -> 89.079552 | G56: =TRUNC(IF(COUNTIF(NOMINATIVI!$S$5:$S$28,D56)>0,F56*23.8/NOMINATIVI!$H$36,F56*23.8/NOMINATIVI!$H$35),4) -> 17.0782 | H56: =TRUNC(J56*8.5/100,3) -> 6.099 | I56: =TRUNC(IF(COUNTIF(NOMINATIVI!$S$5:$S$28,D56)>0,F56*NOMINATIVI!$K$36/NOMINATIVI!$H$36,F56*NOMINATIVI!$K$35/NOMINATIVI!$H$35),2) -> 0.24 | J56: =F56-G56-I56 -> 71.761352
C57: _RP AFFIDAMENTO | D57: =G9 -> LEONE Luca | E57: 1 | F57: =_xlfn.IFS($W$11=$X$9,1*I9*0.9,$W$11=$X$10,1*I9*0.7,$W$11=$X$11,1*I9*0.5,$W$11=$X$12,1*I9) -> 25.82016 | G57: =TRUNC(IF(COUNTIF(NOMINATIVI!$S$5:$S$28,D57)>0,F57*23.8/NOMINATIVI!$H$36,F57*23.8/NOMINATIVI!$H$35),4) -> 4.9502 | H57: =TRUNC(J57*8.5/100,3) -> 1.767 | I57: =TRUNC(IF(COUNTIF(NOMINATIVI!$S$5:$S$28,D57)>0,F57*NOMINATIVI!$K$36/NOMINATIVI!$H$36,F57*NOMINATIVI!$K$35/NOMINATIVI!$H$35),2) -> 0.07 | J57: =F57-G57-I57 -> 20.79996
C58: _RP ESECUZIONE | D58: =G10 -> TROIANI Claudia | F58: =_xlfn.IFS($W$11=$X$9,0*I10*0.9,$W$11=$X$10,0*I10*0.7,$W$11=$X$11,0*I10*0.5,$W$11=$X$12,0*I10) -> 0 | G58: =TRUNC(IF(COUNTIF(NOMINATIVI!$S$5:$S$28,D58)>0,F58*23.8/NOMINATIVI!$H$36,F58*23.8/NOMINATIVI!$H$35),4) -> 0 | H58: =TRUNC(J58*8.5/100,3) -> 0 | I58: =TRUNC(IF(COUNTIF(NOMINATIVI!$S$5:$S$28,D58)>0,F58*NOMINATIVI!$K$36/NOMINATIVI!$H$36,F58*NOMINATIVI!$K$35/NOMINATIVI!$H$35),2) -> 0 | J58: =F58-G58-I58 -> 0
C59: PSI | D59: =G11 -> LEONE Luca | E59: 0 | F59: =_xlfn.IFS($W$11=$X$9,0*I11*0.9,$W$11=$X$10,0*I11*0.7,$W$11=$X$11,0*I11*0.5,$W$11=$X$12,0*I11) -> 0 | G59: =TRUNC(IF(COUNTIF(NOMINATIVI!$S$5:$S$28,D59)>0,F59*23.8/NOMINATIVI!$H$36,F59*23.8/NOMINATIVI!$H$35),4) -> 0 | H59: =TRUNC(J59*8.5/100,3) -> 0 | I59: =TRUNC(IF(COUNTIF(NOMINATIVI!$S$5:$S$28,D59)>0,F59*NOMINATIVI!$K$36/NOMINATIVI!$H$36,F59*NOMINATIVI!$K$35/NOMINATIVI!$H$35),2) -> 0 | J59: =F59-G59-I59 -> 0
C60: PG | D60: =G12 -> LEONE Luca | E60: 0.7 | F60: =_xlfn.IFS($W$11=$X$9,E60*I12*0.9,$W$11=$X$10,E60*I12*0.7,$W$11=$X$11,E60*I12*0.5,$W$11=$X$12,E60*I12) -> 90.37056 | G60: =TRUNC(IF(COUNTIF(NOMINATIVI!$S$5:$S$28,D60)>0,F60*23.8/NOMINATIVI!$H$36,F60*23.8/NOMINATIVI!$H$35),4) -> 17.3257 | H60: =TRUNC(J60*8.5/100,3) -> 6.188 | I60: =TRUNC(IF(COUNTIF(NOMINATIVI!$S$5:$S$28,D60)>0,F60*NOMINATIVI!$K$36/NOMINATIVI!$H$36,F60*NOMINATIVI!$K$35/NOMINATIVI!$H$35),2) -> 0.24 | J60: =F60-G60-I60 -> 72.80486
D61: =G13 -> - | F61: =_xlfn.IFS($W$11=$X$9,0.7*I13*0.9,$W$11=$X$10,0.7*I13*0.7,$W$11=$X$11,0.7*I13*0.5,$W$11=$X$12,0.7*I13) -> 0 | G61: =TRUNC(IF(COUNTIF(NOMINATIVI!$S$5:$S$28,D61)>0,F61*23.8/NOMINATIVI!$H$36,F61*23.8/NOMINATIVI!$H$35),4) -> 0 | H61: =TRUNC(J61*8.5/100,3) -> 0 | I61: =TRUNC(IF(COUNTIF(NOMINATIVI!$S$5:$S$28,D61)>0,F61*NOMINATIVI!$K$36/NOMINATIVI!$H$36,F61*NOMINATIVI!$K$35/NOMINATIVI!$H$35),2) -> 0 | J61: =F61-G61-I61 -> 0
D62: =G14 -> - | F62: =_xlfn.IFS($W$11=$X$9,0.7*I14*0.9,$W$11=$X$10,0.7*I14*0.7,$W$11=$X$11,0.7*I14*0.5,$W$11=$X$12,0.7*I14) -> 0 | G62: =TRUNC(IF(COUNTIF(NOMINATIVI!$S$5:$S$28,D62)>0,F62*23.8/NOMINATIVI!$H$36,F62*23.8/NOMINATIVI!$H$35),4) -> 0 | H62: =TRUNC(J62*8.5/100,3) -> 0 | I62: =TRUNC(IF(COUNTIF(NOMINATIVI!$S$5:$S$28,D62)>0,F62*NOMINATIVI!$K$36/NOMINATIVI!$H$36,F62*NOMINATIVI!$K$35/NOMINATIVI!$H$35),2) -> 0 | J62: =F62-G62-I62 -> 0
C63: VPCPA | D63: =G15 -> LEONE Luca | E63: 1 | F63: =_xlfn.IFS($W$11=$X$9,1*I15*0.9,$W$11=$X$10,1*I15*0.7,$W$11=$X$11,1*I15*0.5,$W$11=$X$12,1*I15) -> 58.09536 | G63: =TRUNC(IF(COUNTIF(NOMINATIVI!$S$5:$S$28,D63)>0,F63*23.8/NOMINATIVI!$H$36,F63*23.8/NOMINATIVI!$H$35),4) -> 11.1379 | H63: =TRUNC(J63*8.5/100,3) -> 3.978 | I63: =TRUNC(IF(COUNTIF(NOMINATIVI!$S$5:$S$28,D63)>0,F63*NOMINATIVI!$K$36/NOMINATIVI!$H$36,F63*NOMINATIVI!$K$35/NOMINATIVI!$H$35),2) -> 0.15 | J63: =F63-G63-I63 -> 46.80746
C64: VPCPAcuc | D64: =G16 -> LEONE Luca | E64: 1 | F64: =_xlfn.IFS($W$11=$X$9,E64*I16*0.9,$W$11=$X$10,E64*I16*0.7,$W$11=$X$11,E64*I16*0.5,$W$11=$X$12,E64*I16) -> 69.714432 | G64: =TRUNC(IF(COUNTIF(NOMINATIVI!$S$5:$S$28,D64)>0,F64*23.8/NOMINATIVI!$H$36,F64*23.8/NOMINATIVI!$H$35),4) -> 13.3655 | H64: =TRUNC(J64*8.5/100,3) -> 4.773 | I64: =TRUNC(IF(COUNTIF(NOMINATIVI!$S$5:$S$28,D64)>0,F64*NOMINATIVI!$K$36/NOMINATIVI!$H$36,F64*NOMINATIVI!$K$35/NOMINATIVI!$H$35),2) -> 0.19 | J64: =F64-G64-I64 -> 56.158932
D65: =G17 -> LEONE Luca | F65: =_xlfn.IFS($W$11=$X$9,E64*I17*0.9,$W$11=$X$10,E64*I17*0.7,$W$11=$X$11,E64*I17*0.5,$W$11=$X$12,E64*I17) -> 58.09536 | G65: =TRUNC(IF(COUNTIF(NOMINATIVI!$S$5:$S$28,D65)>0,F65*23.8/NOMINATIVI!$H$36,F65*23.8/NOMINATIVI!$H$35),4) -> 11.1379 | H65: =TRUNC(J65*8.5/100,3) -> 3.978 | I65: =TRUNC(IF(COUNTIF(NOMINATIVI!$S$5:$S$28,D65)>0,F65*NOMINATIVI!$K$36/NOMINATIVI!$H$36,F65*NOMINATIVI!$K$35/NOMINATIVI!$H$35),2) -> 0.15 | J65: =F65-G65-I65 -> 46.80746
D66: =G18 -> - | F66: =_xlfn.IFS($W$11=$X$9,E64*I18*0.9,$W$11=$X$10,E64*I18*0.7,$W$11=$X$11,E64*I18*0.5,$W$11=$X$12,E64*I18) -> 0 | G66: =TRUNC(IF(COUNTIF(NOMINATIVI!$S$5:$S$28,D66)>0,F66*23.8/NOMINATIVI!$H$36,F66*23.8/NOMINATIVI!$H$35),4) -> 0 | H66: =TRUNC(J66*8.5/100,3) -> 0 | I66: =TRUNC(IF(COUNTIF(NOMINATIVI!$S$5:$S$28,D66)>0,F66*NOMINATIVI!$K$36/NOMINATIVI!$H$36,F66*NOMINATIVI!$K$35/NOMINATIVI!$H$35),2) -> 0 | J66: =F66-G66-I66 -> 0
D67: =G19 -> TROIANI Claudia | F67: =_xlfn.IFS($W$11=$X$9,E64*I19*0.9,$W$11=$X$10,E64*I19*0.7,$W$11=$X$11,E64*I19*0.5,$W$11=$X$12,E64*I19) -> 58.09536 | G67: =TRUNC(IF(COUNTIF(NOMINATIVI!$S$5:$S$28,D67)>0,F67*23.8/NOMINATIVI!$H$36,F67*23.8/NOMINATIVI!$H$35),4) -> 11.1379 | H67: =TRUNC(J67*8.5/100,3) -> 3.978 | I67: =TRUNC(IF(COUNTIF(NOMINATIVI!$S$5:$S$28,D67)>0,F67*NOMINATIVI!$K$36/NOMINATIVI!$H$36,F67*NOMINATIVI!$K$35/NOMINATIVI!$H$35),2) -> 0.15 | J67: =F67-G67-I67 -> 46.80746
D68: =G20 -> - | F68: =_xlfn.IFS($W$11=$X$9,E64*I20*0.9,$W$11=$X$10,E64*I20*0.7,$W$11=$X$11,E64*I20*0.5,$W$11=$X$12,E64*I20) -> 0 | G68: =TRUNC(IF(COUNTIF(NOMINATIVI!$S$5:$S$28,D68)>0,F68*23.8/NOMINATIVI!$H$36,F68*23.8/NOMINATIVI!$H$35),4) -> 0 | H68: =TRUNC(J68*8.5/100,3) -> 0 | I68: =TRUNC(IF(COUNTIF(NOMINATIVI!$S$5:$S$28,D68)>0,F68*NOMINATIVI!$K$36/NOMINATIVI!$H$36,F68*NOMINATIVI!$K$35/NOMINATIVI!$H$35),2) -> 0 | J68: =F68-G68-I68 -> 0
C69: DEC | D69: =G21 -> LOIACONO Graziana | E69: 0 | F69: =IF($W$11=$X$9,(I21*E69)*0.9,I21*E69) -> 0 | G69: =TRUNC(IF(COUNTIF(NOMINATIVI!$S$5:$S$28,D69)>0,F69*23.8/NOMINATIVI!$H$36,F69*23.8/NOMINATIVI!$H$35),4) -> 0 | H69: =TRUNC(J69*8.5/100,3) -> 0 | I69: =TRUNC(IF(COUNTIF(NOMINATIVI!$S$5:$S$28,D69)>0,F69*NOMINATIVI!$K$36/NOMINATIVI!$H$36,F69*NOMINATIVI!$K$35/NOMINATIVI!$H$35),2) -> 0 | J69: =F69-G69-I69 -> 0
C70: _DIRETTORE OPEARTIVI | D70: =G22 -> - | F70: =IF($W$11=$X$9,(I22*E69)*0.9,I22*E69) -> 0 | G70: =TRUNC(IF(COUNTIF(NOMINATIVI!$S$5:$S$28,D70)>0,F70*23.8/NOMINATIVI!$H$36,F70*23.8/NOMINATIVI!$H$35),4) -> 0 | H70: =TRUNC(J70*8.5/100,3) -> 0 | I70: =TRUNC(IF(COUNTIF(NOMINATIVI!$S$5:$S$28,D70)>0,F70*NOMINATIVI!$K$36/NOMINATIVI!$H$36,F70*NOMINATIVI!$K$35/NOMINATIVI!$H$35),2) -> 0 | J70: =F70-G70-I70 -> 0
C71: _DIRETTORE OPEARTIVI | D71: =G23 -> - | F71: =IF($W$11=$X$9,(I23*E69)*0.9,I23*E69) -> 0 | G71: =TRUNC(IF(COUNTIF(NOMINATIVI!$S$5:$S$28,D71)>0,F71*23.8/NOMINATIVI!$H$36,F71*23.8/NOMINATIVI!$H$35),4) -> 0 | H71: =TRUNC(J71*8.5/100,3) -> 0 | I71: =TRUNC(IF(COUNTIF(NOMINATIVI!$S$5:$S$28,D71)>0,F71*NOMINATIVI!$K$36/NOMINATIVI!$H$36,F71*NOMINATIVI!$K$35/NOMINATIVI!$H$35),2) -> 0 | J71: =F71-G71-I71 -> 0
C72: _VERIFICA CONF. (*) | D72: =G24 -> - | F72: =IF($W$11=$X$9,(I24*E69)*0.9,I24*E69) -> 0 | G72: =TRUNC(IF(COUNTIF(NOMINATIVI!$S$5:$S$28,D72)>0,F72*23.8/NOMINATIVI!$H$36,F72*23.8/NOMINATIVI!$H$35),4) -> 0 | H72: =TRUNC(J72*8.5/100,3) -> 0 | I72: =TRUNC(IF(COUNTIF(NOMINATIVI!$S$5:$S$28,D72)>0,F72*NOMINATIVI!$K$36/NOMINATIVI!$H$36,F72*NOMINATIVI!$K$35/NOMINATIVI!$H$35),2) -> 0 | J72: =F72-G72-I72 -> 0
C73: CS | D73: =G25 -> TROIANI Claudia | E73: 0.6 | F73: =_xlfn.IFS($W$11=$X$9,E73*I25*0.9,$W$11=$X$10,E73*I25*0.7,$W$11=$X$11,E73*I25*0.5,$W$11=$X$12,E73*I25) -> 77.46048 | G73: =TRUNC(IF(COUNTIF(NOMINATIVI!$S$5:$S$28,D73)>0,F73*23.8/NOMINATIVI!$H$36,F73*23.8/NOMINATIVI!$H$35),4) -> 14.8506 | H73: =TRUNC(J73*8.5/100,3) -> 5.303 | I73: =TRUNC(IF(COUNTIF(NOMINATIVI!$S$5:$S$28,D73)>0,F73*NOMINATIVI!$K$36/NOMINATIVI!$H$36,F73*NOMINATIVI!$K$35/NOMINATIVI!$H$35),2) -> 0.21 | J73: =F73-G73-I73 -> 62.39988
D74: =G26 -> - | F74: =_xlfn.IFS($W$11=$X$9,0.6*I26*0.9,$W$11=$X$10,0.6*I26*0.7,$W$11=$X$11,0.6*I26*0.5,$W$11=$X$12,0.6*I26) -> 0 | G74: =TRUNC(IF(COUNTIF(NOMINATIVI!$S$5:$S$28,D74)>0,F74*23.8/NOMINATIVI!$H$36,F74*23.8/NOMINATIVI!$H$35),4) -> 0 | H74: =TRUNC(J74*8.5/100,3) -> 0 | I74: =TRUNC(IF(COUNTIF(NOMINATIVI!$S$5:$S$28,D74)>0,F74*NOMINATIVI!$K$36/NOMINATIVI!$H$36,F74*NOMINATIVI!$K$35/NOMINATIVI!$H$35),2) -> 0 | J74: =F74-G74-I74 -> 0
D75: =G27 -> - | F75: =_xlfn.IFS($W$11=$X$9,0.6*I27*0.9,$W$11=$X$10,0.6*I27*0.7,$W$11=$X$11,0.6*I27*0.5,$W$11=$X$12,0.6*I27) -> 0 | G75: =TRUNC(IF(COUNTIF(NOMINATIVI!$S$5:$S$28,D75)>0,F75*23.8/NOMINATIVI!$H$36,F75*23.8/NOMINATIVI!$H$35),4) -> 0 | H75: =TRUNC(J75*8.5/100,3) -> 0 | I75: =TRUNC(IF(COUNTIF(NOMINATIVI!$S$5:$S$28,D75)>0,F75*NOMINATIVI!$K$36/NOMINATIVI!$H$36,F75*NOMINATIVI!$K$35/NOMINATIVI!$H$35),2) -> 0 | J75: =F75-G75-I75 -> 0
C77: Fine INTERVENTO
C78: RUOLI | D78: Incaricato | E78: Quota FASE | F78: IMPORTO Lordo | G78: Inps/cpdel | H78: Irap | I78: Inail | J78: LIQUIDABILE
C79: RUP | D79: =G8 -> LEONE Luca | E79: 0.2 | F79: =_xlfn.IFS($W$13=$X$9,E79*I8*0.9,$W$13=$X$10,E79*I8*0.7,$W$13=$X$11,E79*I8*0.5,$W$13=$X$12,E79*I8) -> 59.386368 | G79: =TRUNC(IF(COUNTIF(NOMINATIVI!$S$5:$S$28,D79)>0,F79*23.8/NOMINATIVI!$H$36,F79*23.8/NOMINATIVI!$H$35),4) -> 11.3854 | H79: =TRUNC(J79*8.5/100,3) -> 4.066 | I79: =TRUNC(IF(COUNTIF(NOMINATIVI!$S$5:$S$28,D79)>0,F79*NOMINATIVI!$K$36/NOMINATIVI!$H$36,F79*NOMINATIVI!$K$35/NOMINATIVI!$H$35),2) -> 0.16 | J79: =F79-G79-I79 -> 47.840968
C80: _RP AFFIDAMENTO | D80: =G9 -> LEONE Luca | F80: =_xlfn.IFS($W$13=$X$9,E80*I9*0.9,$W$13=$X$10,E80*I9*0.7,$W$13=$X$11,E80*I9*0.5,$W$13=$X$12,E80*I9) -> 0 | G80: =TRUNC(IF(COUNTIF(NOMINATIVI!$S$5:$S$28,D80)>0,F80*23.8/NOMINATIVI!$H$36,F80*23.8/NOMINATIVI!$H$35),4) -> 0 | H80: =TRUNC(J80*8.5/100,3) -> 0 | I80: =TRUNC(IF(COUNTIF(NOMINATIVI!$S$5:$S$28,D80)>0,F80*NOMINATIVI!$K$36/NOMINATIVI!$H$36,F80*NOMINATIVI!$K$35/NOMINATIVI!$H$35),2) -> 0 | J80: =F80-G80-I80 -> 0
C81: _RP ESECUZIONE | D81: =G10 -> TROIANI Claudia | E81: 1 | F81: =_xlfn.IFS($W$13=$X$9,E81*I10*0.9,$W$13=$X$10,E81*I10*0.7,$W$13=$X$11,E81*I10*0.5,$W$13=$X$12,E81*I10) -> 64.5504 | G81: =TRUNC(IF(COUNTIF(NOMINATIVI!$S$5:$S$28,D81)>0,F81*23.8/NOMINATIVI!$H$36,F81*23.8/NOMINATIVI!$H$35),4) -> 12.3755 | H81: =TRUNC(J81*8.5/100,3) -> 4.42 | I81: =TRUNC(IF(COUNTIF(NOMINATIVI!$S$5:$S$28,D81)>0,F81*NOMINATIVI!$K$36/NOMINATIVI!$H$36,F81*NOMINATIVI!$K$35/NOMINATIVI!$H$35),2) -> 0.17 | J81: =F81-G81-I81 -> 52.0049
C82: PSI | D82: =G11 -> LEONE Luca | E82: 0 | F82: =_xlfn.IFS($W$13=$X$9,E82*I11*0.9,$W$13=$X$10,E82*I11*0.7,$W$13=$X$11,E82*I11*0.5,$W$13=$X$12,E82*I11) -> 0 | G82: =TRUNC(IF(COUNTIF(NOMINATIVI!$S$5:$S$28,D82)>0,F82*23.8/NOMINATIVI!$H$36,F82*23.8/NOMINATIVI!$H$35),4) -> 0 | H82: =TRUNC(J82*8.5/100,3) -> 0 | I82: =TRUNC(IF(COUNTIF(NOMINATIVI!$S$5:$S$28,D82)>0,F82*NOMINATIVI!$K$36/NOMINATIVI!$H$36,F82*NOMINATIVI!$K$35/NOMINATIVI!$H$35),2) -> 0 | J82: =F82-G82-I82 -> 0
C83: PG | D83: =G12 -> LEONE Luca | E83: 0 | F83: =_xlfn.IFS($W$13=$X$9,E83*I12*0.9,$W$13=$X$10,E83*I12*0.7,$W$13=$X$11,E83*I12*0.5,$W$13=$X$12,E83*I12) -> 0 | G83: =TRUNC(IF(COUNTIF(NOMINATIVI!$S$5:$S$28,D83)>0,F83*23.8/NOMINATIVI!$H$36,F83*23.8/NOMINATIVI!$H$35),4) -> 0 | H83: =TRUNC(J83*8.5/100,3) -> 0 | I83: =TRUNC(IF(COUNTIF(NOMINATIVI!$S$5:$S$28,D83)>0,F83*NOMINATIVI!$K$36/NOMINATIVI!$H$36,F83*NOMINATIVI!$K$35/NOMINATIVI!$H$35),2) -> 0 | J83: =F83-G83-I83 -> 0
D84: =G13 -> - | F84: =_xlfn.IFS($W$13=$X$9,E84*I13*0.9,$W$13=$X$10,E84*I13*0.7,$W$13=$X$11,E84*I13*0.5,$W$13=$X$12,E84*I13) -> 0 | G84: =TRUNC(IF(COUNTIF(NOMINATIVI!$S$5:$S$28,D84)>0,F84*23.8/NOMINATIVI!$H$36,F84*23.8/NOMINATIVI!$H$35),4) -> 0 | H84: =TRUNC(J84*8.5/100,3) -> 0 | I84: =TRUNC(IF(COUNTIF(NOMINATIVI!$S$5:$S$28,D84)>0,F84*NOMINATIVI!$K$36/NOMINATIVI!$H$36,F84*NOMINATIVI!$K$35/NOMINATIVI!$H$35),2) -> 0 | J84: =F84-G84-I84 -> 0
D85: =G14 -> - | E85: 0 | F85: =_xlfn.IFS($W$13=$X$9,E85*I14*0.9,$W$13=$X$10,E85*I14*0.7,$W$13=$X$11,E85*I14*0.5,$W$13=$X$12,E85*I14) -> 0 | G85: =TRUNC(IF(COUNTIF(NOMINATIVI!$S$5:$S$28,D85)>0,F85*23.8/NOMINATIVI!$H$36,F85*23.8/NOMINATIVI!$H$35),4) -> 0 | H85: =TRUNC(J85*8.5/100,3) -> 0 | I85: =TRUNC(IF(COUNTIF(NOMINATIVI!$S$5:$S$28,D85)>0,F85*NOMINATIVI!$K$36/NOMINATIVI!$H$36,F85*NOMINATIVI!$K$35/NOMINATIVI!$H$35),2) -> 0 | J85: =F85-G85-I85 -> 0
C86: VPCPA | D86: =G15 -> LEONE Luca | E86: 0 | F86: =_xlfn.IFS($W$13=$X$9,E86*I15*0.9,$W$13=$X$10,E86*I15*0.7,$W$13=$X$11,E86*I15*0.5,$W$13=$X$12,E86*I15) -> 0 | G86: =TRUNC(IF(COUNTIF(NOMINATIVI!$S$5:$S$28,D86)>0,F86*23.8/NOMINATIVI!$H$36,F86*23.8/NOMINATIVI!$H$35),4) -> 0 | H86: =TRUNC(J86*8.5/100,3) -> 0 | I86: =TRUNC(IF(COUNTIF(NOMINATIVI!$S$5:$S$28,D86)>0,F86*NOMINATIVI!$K$36/NOMINATIVI!$H$36,F86*NOMINATIVI!$K$35/NOMINATIVI!$H$35),2) -> 0 | J86: =F86-G86-I86 -> 0
C87: VPCPAcuc | D87: =G16 -> LEONE Luca | E87: 0 | F87: =_xlfn.IFS($W$13=$X$9,E87*I16*0.9,$W$13=$X$10,E87*I16*0.7,$W$13=$X$11,E87*I16*0.5,$W$13=$X$12,E87*I16) -> 0 | G87: =TRUNC(IF(COUNTIF(NOMINATIVI!$S$5:$S$28,D87)>0,F87*23.8/NOMINATIVI!$H$36,F87*23.8/NOMINATIVI!$H$35),4) -> 0 | H87: =TRUNC(J87*8.5/100,3) -> 0 | I87: =TRUNC(IF(COUNTIF(NOMINATIVI!$S$5:$S$28,D87)>0,F87*NOMINATIVI!$K$36/NOMINATIVI!$H$36,F87*NOMINATIVI!$K$35/NOMINATIVI!$H$35),2) -> 0 | J87: =F87-G87-I87 -> 0
D88: =G17 -> LEONE Luca | F88: =_xlfn.IFS($W$13=$X$9,E88*I17*0.9,$W$13=$X$10,E88*I17*0.7,$W$13=$X$11,E88*I17*0.5,$W$13=$X$12,E88*I17) -> 0 | G88: =TRUNC(IF(COUNTIF(NOMINATIVI!$S$5:$S$28,D88)>0,F88*23.8/NOMINATIVI!$H$36,F88*23.8/NOMINATIVI!$H$35),4) -> 0 | H88: =TRUNC(J88*8.5/100,3) -> 0 | I88: =TRUNC(IF(COUNTIF(NOMINATIVI!$S$5:$S$28,D88)>0,F88*NOMINATIVI!$K$36/NOMINATIVI!$H$36,F88*NOMINATIVI!$K$35/NOMINATIVI!$H$35),2) -> 0 | J88: =F88-G88-I88 -> 0
D89: =G18 -> - | F89: =_xlfn.IFS($W$13=$X$9,E89*I18*0.9,$W$13=$X$10,E89*I18*0.7,$W$13=$X$11,E89*I18*0.5,$W$13=$X$12,E89*I18) -> 0 | G89: =TRUNC(IF(COUNTIF(NOMINATIVI!$S$5:$S$28,D89)>0,F89*23.8/NOMINATIVI!$H$36,F89*23.8/NOMINATIVI!$H$35),4) -> 0 | H89: =TRUNC(J89*8.5/100,3) -> 0 | I89: =TRUNC(IF(COUNTIF(NOMINATIVI!$S$5:$S$28,D89)>0,F89*NOMINATIVI!$K$36/NOMINATIVI!$H$36,F89*NOMINATIVI!$K$35/NOMINATIVI!$H$35),2) -> 0 | J89: =F89-G89-I89 -> 0
D90: =G19 -> TROIANI Claudia | F90: =_xlfn.IFS($W$13=$X$9,E90*I19*0.9,$W$13=$X$10,E90*I19*0.7,$W$13=$X$11,E90*I19*0.5,$W$13=$X$12,E90*I19) -> 0 | G90: =TRUNC(IF(COUNTIF(NOMINATIVI!$S$5:$S$28,D90)>0,F90*23.8/NOMINATIVI!$H$36,F90*23.8/NOMINATIVI!$H$35),4) -> 0 | H90: =TRUNC(J90*8.5/100,3) -> 0 | I90: =TRUNC(IF(COUNTIF(NOMINATIVI!$S$5:$S$28,D90)>0,F90*NOMINATIVI!$K$36/NOMINATIVI!$H$36,F90*NOMINATIVI!$K$35/NOMINATIVI!$H$35),2) -> 0 | J90: =F90-G90-I90 -> 0
D91: =G20 -> - | F91: =_xlfn.IFS($W$13=$X$9,E91*I20*0.9,$W$13=$X$10,E91*I20*0.7,$W$13=$X$11,E91*I20*0.5,$W$13=$X$12,E91*I20) -> 0 | G91: =TRUNC(IF(COUNTIF(NOMINATIVI!$S$5:$S$28,D91)>0,F91*23.8/NOMINATIVI!$H$36,F91*23.8/NOMINATIVI!$H$35),4) -> 0 | H91: =TRUNC(J91*8.5/100,3) -> 0 | I91: =TRUNC(IF(COUNTIF(NOMINATIVI!$S$5:$S$28,D91)>0,F91*NOMINATIVI!$K$36/NOMINATIVI!$H$36,F91*NOMINATIVI!$K$35/NOMINATIVI!$H$35),2) -> 0 | J91: =F91-G91-I91 -> 0
C92: DEC | D92: =G21 -> LOIACONO Graziana | E92: 1 | F92: =_xlfn.IFS($W$13=$X$9,E92*I21*0.9,$W$13=$X$10,E92*I21*0.7,$W$13=$X$11,E92*I21*0.5,$W$13=$X$12,E92*I21) -> 322.752 | G92: =TRUNC(IF(COUNTIF(NOMINATIVI!$S$5:$S$28,D92)>0,F92*23.8/NOMINATIVI!$H$36,F92*23.8/NOMINATIVI!$H$35),4) -> 61.51 | H92: =TRUNC(J92*8.5/100,3) -> 21.968 | I92: =TRUNC(IF(COUNTIF(NOMINATIVI!$S$5:$S$28,D92)>0,F92*NOMINATIVI!$K$36/NOMINATIVI!$H$36,F92*NOMINATIVI!$K$35/NOMINATIVI!$H$35),2) -> 2.79 | J92: =F92-G92-I92 -> 258.452
C93: _DIRETTORE OPEARTIVI | D93: =G22 -> - | F93: =_xlfn.IFS($W$13=$X$9,E92*I22*0.9,$W$13=$X$10,E92*I22*0.7,$W$13=$X$11,E92*I22*0.5,$W$13=$X$12,E92*I22) -> 0 | G93: =TRUNC(IF(COUNTIF(NOMINATIVI!$S$5:$S$28,D93)>0,F93*23.8/NOMINATIVI!$H$36,F93*23.8/NOMINATIVI!$H$35),4) -> 0 | H93: =TRUNC(J93*8.5/100,3) -> 0 | I93: =TRUNC(IF(COUNTIF(NOMINATIVI!$S$5:$S$28,D93)>0,F93*NOMINATIVI!$K$36/NOMINATIVI!$H$36,F93*NOMINATIVI!$K$35/NOMINATIVI!$H$35),2) -> 0 | J93: =F93-G93-I93 -> 0
C94: _DIRETTORE OPEARTIVI | D94: =G23 -> - | F94: =_xlfn.IFS($W$13=$X$9,E92*I23*0.9,$W$13=$X$10,E92*I23*0.7,$W$13=$X$11,E92*I23*0.5,$W$13=$X$12,E92*I23) -> 0 | G94: =TRUNC(IF(COUNTIF(NOMINATIVI!$S$5:$S$28,D94)>0,F94*23.8/NOMINATIVI!$H$36,F94*23.8/NOMINATIVI!$H$35),4) -> 0 | H94: =TRUNC(J94*8.5/100,3) -> 0 | I94: =TRUNC(IF(COUNTIF(NOMINATIVI!$S$5:$S$28,D94)>0,F94*NOMINATIVI!$K$36/NOMINATIVI!$H$36,F94*NOMINATIVI!$K$35/NOMINATIVI!$H$35),2) -> 0 | J94: =F94-G94-I94 -> 0
C95: _VERIFICA CONF. (*) | D95: =G24 -> - | F95: =_xlfn.IFS($W$13=$X$9,E92*I24*0.9,$W$13=$X$10,E92*I24*0.7,$W$13=$X$11,E92*I24*0.5,$W$13=$X$12,E92*I24) -> 0 | G95: =TRUNC(IF(COUNTIF(NOMINATIVI!$S$5:$S$28,D95)>0,F95*23.8/NOMINATIVI!$H$36,F95*23.8/NOMINATIVI!$H$35),4) -> 0 | H95: =TRUNC(J95*8.5/100,3) -> 0 | I95: =TRUNC(IF(COUNTIF(NOMINATIVI!$S$5:$S$28,D95)>0,F95*NOMINATIVI!$K$36/NOMINATIVI!$H$36,F95*NOMINATIVI!$K$35/NOMINATIVI!$H$35),2) -> 0 | J95: =F95-G95-I95 -> 0
C96: CS | D96: =G25 -> TROIANI Claudia | E96: 0.2 | F96: =_xlfn.IFS($W$13=$X$9,E96*I25*0.9,$W$13=$X$10,E96*I25*0.7,$W$13=$X$11,E96*I25*0.5,$W$13=$X$12,E96*I25) -> 25.82016 | G96: =TRUNC(IF(COUNTIF(NOMINATIVI!$S$5:$S$28,D96)>0,F96*23.8/NOMINATIVI!$H$36,F96*23.8/NOMINATIVI!$H$35),4) -> 4.9502 | H96: =TRUNC(J96*8.5/100,3) -> 1.767 | I96: =TRUNC(IF(COUNTIF(NOMINATIVI!$S$5:$S$28,D96)>0,F96*NOMINATIVI!$K$36/NOMINATIVI!$H$36,F96*NOMINATIVI!$K$35/NOMINATIVI!$H$35),2) -> 0.07 | J96: =F96-G96-I96 -> 20.79996
D97: =G26 -> - | F97: =_xlfn.IFS($W$13=$X$9,E97*I26*0.9,$W$13=$X$10,E97*I26*0.7,$W$13=$X$11,E97*I26*0.5,$W$13=$X$12,E97*I26) -> 0 | G97: =TRUNC(IF(COUNTIF(NOMINATIVI!$S$5:$S$28,D97)>0,F97*23.8/NOMINATIVI!$H$36,F97*23.8/NOMINATIVI!$H$35),4) -> 0 | H97: =TRUNC(J97*8.5/100,3) -> 0 | I97: =TRUNC(IF(COUNTIF(NOMINATIVI!$S$5:$S$28,D97)>0,F97*NOMINATIVI!$K$36/NOMINATIVI!$H$36,F97*NOMINATIVI!$K$35/NOMINATIVI!$H$35),2) -> 0 | J97: =F97-G97-I97 -> 0
D98: =G27 -> - | F98: =_xlfn.IFS($W$13=$X$9,E98*I27*0.9,$W$13=$X$10,E98*I27*0.7,$W$13=$X$11,E98*I27*0.5,$W$13=$X$12,E98*I27) -> 0 | G98: =TRUNC(IF(COUNTIF(NOMINATIVI!$S$5:$S$28,D98)>0,F98*23.8/NOMINATIVI!$H$36,F98*23.8/NOMINATIVI!$H$35),4) -> 0 | H98: =TRUNC(J98*8.5/100,3) -> 0 | I98: =TRUNC(IF(COUNTIF(NOMINATIVI!$S$5:$S$28,D98)>0,F98*NOMINATIVI!$K$36/NOMINATIVI!$H$36,F98*NOMINATIVI!$K$35/NOMINATIVI!$H$35),2) -> 0 | J98: =F98-G98-I98 -> 0
C102: INCARICATO | D102: PROGRAMMAZIONE | E102: AFFIDAMENTO | F102: Fine INTERVENTO | G102: TOTALE | H102: Inps/cpdel | I102: Inail | J102: LIQUIDABILE | K102: IRAP a carico dell'ente
C103: =IF(ROWS(C$103:C103)>$C$122,"",INDEX($G$8:$G$27,SMALL(IF(FREQUENCY(MATCH($G$8:$G$27,$G$8:$G$27,0),ROW($K$8:$K$27)-ROW($K$8)+1),ROW($K$8:$K$27)-ROW($K$8)+1),ROWS(C$103:C103)))) -> LEONE Luca | D103: =SUMIF($D$33:$D$52,C103,$F$33:$F$52) -> 251.74656 | E103: =SUMIF(D56:D75,C103,F56:F75) -> 391.17542 | F103: =SUMIF(D79:D96,C103,F79:F96) -> 59.386368 | G103: =SUM(D103:F103) -> 702.30835 | H103: =SUMIF($D$33:$D$52,C103,$G$33:$G$52)+SUMIF($D$56:$D$75,C103,$G$56:$G$75)+SUMIF($D$79:$D$96,C103,$G$79:$G$96) -> 134.6453 | I103: =SUMIF($D$33:$D$52,C103,$I$33:$I$52)+SUMIF($D$56:$D$75,C103,$I$56:$I$75)+SUMIF($D$79:$D$96,C103,$I$79:$I$96) -> 1.87 | J103: =SUMIF($D$33:$D$52,C103,$J$33:$J$52)+SUMIF($D$56:$D$75,C103,$J$56:$J$75)+SUMIF($D$79:$D$98,C103,$J$79:$J$98) -> 565.79305 | K103: =SUMIF($D$33:$D$52,C103,$H$33:$H$52)+SUMIF($D$56:$D$75,C103,$H$56:$H$75)+SUMIF($D$79:$D$96,C103,$H$79:$H$96) -> 48.087
C104: {=IF(ROWS(C$103:C104)>$C$122,"",INDEX($G$8:$G$27,SMALL(IF(FREQUENCY(MATCH($G$8:$G$27,$G$8:$G$27,0),ROW($K$8:$K$27)-ROW($K$8)+1),ROW($K$8:$K$27)-ROW($K$8)+1),ROWS(C$103:C104))))} -> TROIANI Claudia | D104: =SUMIF($D$33:$D$52,C104,$F$33:$F$52) -> 25.82016 | E104: =SUMIF(D57:D76,C104,F57:F76) -> 135.55584 | F104: =SUMIF(D80:D97,C104,F80:F97) -> 90.37056 | G104: =SUM(D104:F104) -> 251.74656 | H104: =SUMIF($D$33:$D$52,C104,$G$33:$G$52)+SUMIF($D$56:$D$75,C104,$G$56:$G$75)+SUMIF($D$79:$D$96,C104,$G$79:$G$96) -> 48.2644 | I104: =SUMIF($D$33:$D$52,C104,$I$33:$I$52)+SUMIF($D$56:$D$75,C104,$I$56:$I$75)+SUMIF($D$79:$D$96,C104,$I$79:$I$96) -> 0.67 | J104: =SUMIF($D$33:$D$52,C104,$J$33:$J$52)+SUMIF($D$56:$D$75,C104,$J$56:$J$75)+SUMIF($D$79:$D$98,C104,$J$79:$J$98) -> 202.81216 | K104: =SUMIF($D$33:$D$52,C104,$H$33:$H$52)+SUMIF($D$56:$D$75,C104,$H$56:$H$75)+SUMIF($D$79:$D$96,C104,$H$79:$H$96) -> 17.235
C105: {=IF(ROWS(C$103:C105)>$C$122,"",INDEX($G$8:$G$27,SMALL(IF(FREQUENCY(MATCH($G$8:$G$27,$G$8:$G$27,0),ROW($K$8:$K$27)-ROW($K$8)+1),ROW($K$8:$K$27)-ROW($K$8)+1),ROWS(C$103:C105))))} -> - | D105: =SUMIF($D$33:$D$52,C105,$F$33:$F$52) -> 0 | E105: =SUMIF(D58:D77,C105,F58:F77) -> 0 | F105: =SUMIF(D81:D98,C105,F81:F98) -> 0 | G105: =SUM(D105:F105) -> 0 | H105: =SUMIF($D$33:$D$52,C105,$G$33:$G$52)+SUMIF($D$56:$D$75,C105,$G$56:$G$75)+SUMIF($D$79:$D$96,C105,$G$79:$G$96) -> 0 | I105: =SUMIF($D$33:$D$52,C105,$I$33:$I$52)+SUMIF($D$56:$D$75,C105,$I$56:$I$75)+SUMIF($D$79:$D$96,C105,$I$79:$I$96) -> 0 | J105: =SUMIF($D$33:$D$52,C105,$J$33:$J$52)+SUMIF($D$56:$D$75,C105,$J$56:$J$75)+SUMIF($D$79:$D$98,C105,$J$79:$J$98) -> 0 | K105: =SUMIF($D$33:$D$52,C105,$H$33:$H$52)+SUMIF($D$56:$D$75,C105,$H$56:$H$75)+SUMIF($D$79:$D$96,C105,$H$79:$H$96) -> 0
C106: {=IF(ROWS(C$103:C106)>$C$122,"",INDEX($G$8:$G$27,SMALL(IF(FREQUENCY(MATCH($G$8:$G$27,$G$8:$G$27,0),ROW($K$8:$K$27)-ROW($K$8)+1),ROW($K$8:$K$27)-ROW($K$8)+1),ROWS(C$103:C106))))} -> LOIACONO Graziana | D106: =SUMIF($D$33:$D$52,C106,$F$33:$F$52) -> 0 | E106: =SUMIF(D59:D78,C106,F59:F78) -> 0 | F106: =SUMIF(D82:D102,C106,F82:F102) -> 322.752 | G106: =SUM(D106:F106) -> 322.752 | H106: =SUMIF($D$33:$D$52,C106,$G$33:$G$52)+SUMIF($D$56:$D$75,C106,$G$56:$G$75)+SUMIF($D$79:$D$96,C106,$G$79:$G$96) -> 61.51 | I106: =SUMIF($D$33:$D$52,C106,$I$33:$I$52)+SUMIF($D$56:$D$75,C106,$I$56:$I$75)+SUMIF($D$79:$D$96,C106,$I$79:$I$96) -> 2.79 | J106: =SUMIF($D$33:$D$52,C106,$J$33:$J$52)+SUMIF($D$56:$D$75,C106,$J$56:$J$75)+SUMIF($D$79:$D$98,C106,$J$79:$J$98) -> 258.452 | K106: =SUMIF($D$33:$D$52,C106,$H$33:$H$52)+SUMIF($D$56:$D$75,C106,$H$56:$H$75)+SUMIF($D$79:$D$96,C106,$H$79:$H$96) -> 21.968
C107: {=IF(ROWS(C$103:C107)>$C$122,"",INDEX($G$8:$G$27,SMALL(IF(FREQUENCY(MATCH($G$8:$G$27,$G$8:$G$27,0),ROW($K$8:$K$27)-ROW($K$8)+1),ROW($K$8:$K$27)-ROW($K$8)+1),ROWS(C$103:C107))))} | D107: =SUMIF($D$33:$D$52,C107,$F$33:$F$52) -> 0 | E107: =SUMIF(D60:D79,C107,F60:F79) -> 0 | F107: =SUMIF(D83:D103,C107,F83:F103) -> 0 | G107: =SUM(D107:F107) -> 0 | H107: =SUMIF($D$33:$D$52,C107,$G$33:$G$52)+SUMIF($D$56:$D$75,C107,$G$56:$G$75)+SUMIF($D$79:$D$96,C107,$G$79:$G$96) -> 0 | I107: =SUMIF($D$33:$D$52,C107,$I$33:$I$52)+SUMIF($D$56:$D$75,C107,$I$56:$I$75)+SUMIF($D$79:$D$96,C107,$I$79:$I$96) -> 0 | J107: =SUMIF($D$33:$D$52,C107,$J$33:$J$52)+SUMIF($D$56:$D$75,C107,$J$56:$J$75)+SUMIF($D$79:$D$98,C107,$J$79:$J$98) -> 0 | K107: =SUMIF($D$33:$D$52,C107,$H$33:$H$52)+SUMIF($D$56:$D$75,C107,$H$56:$H$75)+SUMIF($D$79:$D$96,C107,$H$79:$H$96) -> 0
C108: {=IF(ROWS(C$103:C108)>$C$122,"",INDEX($G$8:$G$27,SMALL(IF(FREQUENCY(MATCH($G$8:$G$27,$G$8:$G$27,0),ROW($K$8:$K$27)-ROW($K$8)+1),ROW($K$8:$K$27)-ROW($K$8)+1),ROWS(C$103:C108))))} | D108: =SUMIF($D$33:$D$52,C108,$F$33:$F$52) -> 0 | E108: =SUMIF(D61:D80,C108,F61:F80) -> 0 | F108: =SUMIF(D84:D104,C108,F84:F104) -> 0 | G108: =SUM(D108:F108) -> 0 | H108: =SUMIF($D$33:$D$52,C108,$G$33:$G$52)+SUMIF($D$56:$D$75,C108,$G$56:$G$75)+SUMIF($D$79:$D$96,C108,$G$79:$G$96) -> 0 | I108: =SUMIF($D$33:$D$52,C108,$I$33:$I$52)+SUMIF($D$56:$D$75,C108,$I$56:$I$75)+SUMIF($D$79:$D$96,C108,$I$79:$I$96) -> 0 | J108: =SUMIF($D$33:$D$52,C108,$J$33:$J$52)+SUMIF($D$56:$D$75,C108,$J$56:$J$75)+SUMIF($D$79:$D$98,C108,$J$79:$J$98) -> 0 | K108: =SUMIF($D$33:$D$52,C108,$H$33:$H$52)+SUMIF($D$56:$D$75,C108,$H$56:$H$75)+SUMIF($D$79:$D$96,C108,$H$79:$H$96) -> 0
C109: {=IF(ROWS(C$103:C109)>$C$122,"",INDEX($G$8:$G$27,SMALL(IF(FREQUENCY(MATCH($G$8:$G$27,$G$8:$G$27,0),ROW($K$8:$K$27)-ROW($K$8)+1),ROW($K$8:$K$27)-ROW($K$8)+1),ROWS(C$103:C109))))} | D109: =SUMIF($D$33:$D$52,C109,$F$33:$F$52) -> 0 | E109: =SUMIF(D62:D81,C109,F62:F81) -> 0 | F109: =SUMIF(D85:D105,C109,F85:F105) -> 0 | G109: =SUM(D109:F109) -> 0 | H109: =SUMIF($D$33:$D$52,C109,$G$33:$G$52)+SUMIF($D$56:$D$75,C109,$G$56:$G$75)+SUMIF($D$79:$D$96,C109,$G$79:$G$96) -> 0 | I109: =SUMIF($D$33:$D$52,C109,$I$33:$I$52)+SUMIF($D$56:$D$75,C109,$I$56:$I$75)+SUMIF($D$79:$D$96,C109,$I$79:$I$96) -> 0 | J109: =SUMIF($D$33:$D$52,C109,$J$33:$J$52)+SUMIF($D$56:$D$75,C109,$J$56:$J$75)+SUMIF($D$79:$D$98,C109,$J$79:$J$98) -> 0 | K109: =SUMIF($D$33:$D$52,C109,$H$33:$H$52)+SUMIF($D$56:$D$75,C109,$H$56:$H$75)+SUMIF($D$79:$D$96,C109,$H$79:$H$96) -> 0 | S109: (firmato digitalmente)
C110: {=IF(ROWS(C$103:C110)>$C$122,"",INDEX($G$8:$G$27,SMALL(IF(FREQUENCY(MATCH($G$8:$G$27,$G$8:$G$27,0),ROW($K$8:$K$27)-ROW($K$8)+1),ROW($K$8:$K$27)-ROW($K$8)+1),ROWS(C$103:C110))))} | D110: =SUMIF($D$33:$D$52,C110,$F$33:$F$52) -> 0 | E110: =SUMIF(D63:D82,C110,F63:F82) -> 0 | F110: =SUMIF(D86:D106,C110,F86:F106) -> 0 | G110: =SUM(D110:F110) -> 0 | H110: =SUMIF($D$33:$D$52,C110,$G$33:$G$52)+SUMIF($D$56:$D$75,C110,$G$56:$G$75)+SUMIF($D$79:$D$96,C110,$G$79:$G$96) -> 0 | I110: =SUMIF($D$33:$D$52,C110,$I$33:$I$52)+SUMIF($D$56:$D$75,C110,$I$56:$I$75)+SUMIF($D$79:$D$96,C110,$I$79:$I$96) -> 0 | J110: =SUMIF($D$33:$D$52,C110,$J$33:$J$52)+SUMIF($D$56:$D$75,C110,$J$56:$J$75)+SUMIF($D$79:$D$98,C110,$J$79:$J$98) -> 0 | K110: =SUMIF($D$33:$D$52,C110,$H$33:$H$52)+SUMIF($D$56:$D$75,C110,$H$56:$H$75)+SUMIF($D$79:$D$96,C110,$H$79:$H$96) -> 0 | S110: IL RUP | V110: =+V141 -> LEONE Luca
...

Sheet NOMINATIVI
Z2: STT_2026_00022
B3: LEONE Luca | E3: SI | S3: BIGAGNOLI Chiara
B4: TROIANI Claudia | E4: NO | S4: BRESSAN Angela
B5: GIUSTINO Andrea | S5: CAPPELLINO Girolamo
B6: AVANZO Pasquale | G6: COMPETENZE | J6: ALIQUOTA INC. | S6: CARMINATI Alessandro
B7: LOIACONO Graziana | G7: RUP | H7: _RP AFFIDAMENTO (*) | I7: n/a | J7: 0.02 | K7: 0.019 | S7: CASOLATI Alberto
B8: CAVENAGHI Ivan | G8: 0.3 | H8: _RP ESECUZIONE (*) | I8: n/a | J8: 0.05 | K8: 0.02 | S8: CAVENAGHI Ivan
B9: COLOMBO Francesca | G9: 0.7 | H9: _CSP (*) | I9: n/a | J9: 0.05 | K9: 0.04 | S9: COLOMBO Francesca
B10: CONSOLATI Francesco | H10: _CSE (*) | I10: n/a | J10: 0.02 | K10: 0.02 | S10: CONSOLATI Francesco
B11: IELASI Paola | E11: Riduzioni Applicate | H11: _VERIFICA CONF. (*) | I11: n/a | J11: 0.05 | K11: 0.05 | S11: IELASI Paola
B12: TEDDE Giovanna | S12: TEDDE Giovanna
B13: FRONZUTI Riccardo | S13: FRONZUTI Riccardo
B14: GARLASCHI Annalisa | S14: GARLASCHI Annalisa
B15: GUALANDI Angelo | S15: GUALANDI Angelo
B16: LAURETTI Francesca | E16: -0.3 | S16: LAURETTI Francesca
B17: LOIACONO Graziana | E17: -0.5 | S17: LOIACONO Graziana
B18: LOMBARDO Dario | E18: -0.8 | S18: LOMBARDO Dario
B19: LOVAGLIO Lorenzo | E19: -1 | S19: LOVAGLIO Lorenzo
B20: LUCARELLI Francesca | E20: 0 | S20: LUCARELLI Francesca
B21: MARTIGNAGO Tatiana | E21: -0.5 | S21: MARTIGNAGO Tatiana
B22: MASI Gianluca | S22: MASI Gianluca
B23: MELILLO Fabio | M23: 1500 | N23: =100+23.8+8.5+0.0035 -> 132.3035 | O23: =M23*P23/N23 -> 1133.7569 | P23: 100 | S23: MELILLO Fabio
B24: MONICO Stefano | S24: MONICO Stefano
B25: MURGOLO Ezio | S25: MURGOLO Ezio
B26: ORLANDI Barbara | S26: ORLANDI Barbara
B27: SALCICCIA Lorenzo | O27: =O23*23.8/100 -> 269.83413 | S27: SALCICCIA Lorenzo
B28: SCHILLACI Fabrizio | H28: √ | O28: =O23*8.5/100 -> 96.369333 | S28: SCHILLACI Fabrizio
B29: SENTIERO Monica | H29: ! | O29: =O23*0.0035 -> 3.968149 | S29: SENTIERO Monica
B30: SPINELLI Valentina | S30: SPINELLI Valentina
B31: TOLOMEI Rossella | S31: TOLOMEI Rossella
B32: TOSI Pierangelo | E32: =+#REF! -> #REF! | S32: TOSI Pierangelo
B33: TURRINI Mauro | E33: CUC | S33: TURRINI Mauro
B34: Polizia Locale | H34: Aliquote per Totale | K34: INAIL | S34: Polizia Locale
B35: ZUCCHI Carmen | H35: =100+(23.8+K35) -> 124.14 | K35: 0.34 | S35: ZUCCHI Carmen
B36: BRANCA Marta | H36: =100+(23.8+K36) -> 124.882 | K36: 1.082 | S36: BRANCA Marta
B37: ESTERNO | S37: ESTERNO
B38: CUC | S38: CUC
B39: - | S39: -
S40: tot
S41: Determina liquidazione (programm./affidamento)
S42: Consegna documentazione
S43: Mese liquidazione effettiva
S44: Determina liquidazione (fine intervento)
S45: Consegna documentazione
S46: Mese liquidazione effettiva
S47: SCHEDA FIRMATA IN CARTELLA
S48: DETERMINA DI LIQUIDAZIONE 1° FASE FATTA
S49: LIQUIDATA 1° FASE
S50: DETERMINA DI LIQUIDAZIONE 2° FASE FATTA
S51: LIQUIDATA 2° FASE
S52: percorso dove trovare le schede
