Workbook

Sheet STT_2026_00022
C3: APPALTO | D3: MANUTENZIONE ORDINARIA SEGNALETICA VERTICALE E ORIZZONTALE 2026_2027
C4: CUP | D4: ---
C5: CIG | D5: BCCBDF0B1F
C7: Importo | D7: 80688 | F7: RUOLI | G7: INCARICATO | H7: QUOTA | I7: IMPORTO Lordo | J7: CHECK VALUE | M7: Controllo TEMPISTICHE
C8: Aliquota | D8: =IF(D7<=221000,0.02,0)+IF(D7>221000,0.018,0)+IF(D7>1000001,0.016-0.018,0)+IF(D7>3000001,0.014-0.016,0)+IF(D7>5000000,0.012-0.014,0) -> 0.02 | F8: RUP | G8: LEONE Luca | H8: =0.3-H9-H10 -> 0.23 | I8: =IF($D$18=NOMINATIVI!$E$4,$D$10*H8*0.8,$D$10*H8*0.8*0.7) -> 296.93184 | J8: =_xlfn.IFS(H8<0,NOMINATIVI!$H$29,H8>0.3,NOMINATIVI!$H$29,H8<0.3,NOMINATIVI!$H$28,H8>0,NOMINATIVI!$H$28) -> √ | M8: Fase | N8: Avvio | O8: Termine | P8: Check | R8: Varizione | S8: Note | W8: Riduzione
F9: =IF(H9=0,NOMINATIVI!I7,NOMINATIVI!H7) -> _RP AFFIDAMENTO (*) | G9: LEONE Luca | H9: 0.02 | I9: =IF($D$18=NOMINATIVI!$E$4,$D$10*H9*0.8,$D$10*H9*0.8*0.7) -> 25.82016 | J9: =IF(H9>30/100,NOMINATIVI!$H$29,NOMINATIVI!$H$28) -> √ | M9: programmazione | N9: 46174 | O9: 46193 | P9: 46196 | R9: =+(P9-N9)/(O9-N9)-1 -> 0.15789474 | X9: 0.1
C10: INCENTIVO art. 45 | D10: =IF(D7<50000,0,D7*D8) -> 1613.76 | F10: =IF(H10=0,NOMINATIVI!I8,NOMINATIVI!H8) -> _RP ESECUZIONE (*) | G10: TROIANI Claudia | H10: 0.05 | I10: =IF($D$18=NOMINATIVI!$E$4,$D$10*H10*0.8,$D$10*H10*0.8*0.7) -> 64.5504 | J10: =IF(H10>30/100,NOMINATIVI!$H$29,NOMINATIVI!$H$28) -> √ | M10: progetto | N10: 46197 | O10: 46218 | P10: 46221 | Q10: =+(P10-N10)/(O10-N10)-1 -> 0.14285714 | W10: //// | X10: 0.3
C11: di cui Quota 20% - INCREMENTATA in funzione degli art. 4 & 5 del regolamento | D11: =D10-I28 -> 336.95309 | F11: PSI | G11: LEONE Luca | H11: =0.05 -> 0.05 | I11: =IF($D$18=NOMINATIVI!$E$4,$D$10*H11*0.8,$D$10*H11*0.8*0.5) -> 64.5504 | J11: n/a | M11: verifica | N11: 46222 | O11: 46232 | P11: 46234 | Q11: =+(P11-N11)/(O11-N11)-1 -> 0.2 | R11: =SUM(Q10,Q11,Q12,) -> 0.48571429 | X11: 0.5
B12: (**) | F12: PG | G12: LEONE Luca | H12: =IF(G12=NOMINATIVI!B37,0,0.1-H13-H14) -> 0.1 | I12: =IF($D$18=NOMINATIVI!$E$4,$D$10*H12*0.8,$D$10*H12*0.8*0.8) -> 129.1008 | J12: =_xlfn.IFS(H12<0,NOMINATIVI!$H$29,H12>0.1,NOMINATIVI!$H$29,H12<0.1,NOMINATIVI!$H$28,H12>0,NOMINATIVI!$H$28) -> √ | M12: gara | N12: 46244 | O12: 46258 | P12: 46260 | Q12: =+(P12-N12)/(O12-N12)-1 -> 0.14285714 | W12: ////
B13: (**) | C13: di cui Quota 80% - erogabile | D13: =I28 -> 1276.8069 | G13: - | H13: 0 | I13: =IF($D$18=NOMINATIVI!$E$4,$D$10*H13*0.8,$D$10*H13*0.8*0.8) -> 0 | J13: =IF(H13>10/100,NOMINATIVI!$H$29,NOMINATIVI!$H$28) -> √ | M13: servizio | N13: 46266 | O13: 46234 | P13: 46266 | R13: =+(P13-N13)/(O13-N13)-1 -> -1
C14: IRAP a carico dell'ente secondo delibera N. 103/2026/PAR sezione regionale Lombardia della Corte dei Conti | D14: =+K119 -> 87.29 | G14: - | H14: 0 | I14: =IF($D$18=NOMINATIVI!$E$4,$D$10*H14*0.8,$D$10*H14*0.8*0.8) -> 0 | J14: =IF(H14>10/100,NOMINATIVI!$H$29,NOMINATIVI!$H$28) -> √ | M14: Totale Giorni | N14: =-(N9-O9)+-(N10-O10)+-(N11-O11)+-(N12-O12)+-(N13-O13) -> 32 | P14: =-(N9-P9)+-(N10-P10)+-(N11-P11)+-(N12-P12)+-(N13-P13) -> 74 | R14: =P14/N14 -> 2.3125
F15: VPCPA | G15: =G8 -> LEONE Luca | H15: =IF(G15=G8,0.05*0.9,0.05) -> 0.045 | I15: =IF($D$18=NOMINATIVI!$E$4,$D$10*H15*0.8,$D$10*H15*0.8*0) -> 58.09536 | J15: n/a
F16: VPCPA o (CUC) | G16: LEONE Luca | H16: =IF(G16=G8,(0.15)*0.9*0.4,0.15) -> 0.054 | I16: =IF($D$18=NOMINATIVI!$E$4,$D$10*H16*0.8,$D$10*H16*0.8*0) -> 69.714432 | J16: n/a
G17: LEONE Luca | H17: =IF(G16=G8,0.045-H18,0) -> 0.045 | I17: =IF($D$18=NOMINATIVI!$E$4,$D$10*H17*0.8,$D$10*H17*0.8*0) -> 58.09536 | J17: n/a
C18: CONSIP | D18: NO | G18: - | H18: 0 | I18: =IF($D$18=NOMINATIVI!$E$4,$D$10*H18*0.8,$D$10*H18*0.8*0) -> 0 | J18: =IF(H18>4.5/100,NOMINATIVI!$H$29,NOMINATIVI!$H$28) -> √ | M18: Controllo COSTI
G19: TROIANI Claudia | H19: =IF(G16=G8,0.045-H20,0) -> 0.045 | I19: =IF($D$18=NOMINATIVI!$E$4,$D$10*H19*0.8,$D$10*H19*0.8*0) -> 58.09536 | J19: n/a | M19: Previsionale | O19: Consuntivo | R19: Var % | T19: La presente rendicontazione redatta come scheda ai sensi dell'art.7 del regolamento e successivamente trasmessa all'O.I.V & R.S.U dal servizio Personale con cadenza Annuale per costituire documentazione utile alla valutazione del Dirigente Interessato
G20: - | H20: 0 | I20: =IF($D$18=NOMINATIVI!$E$4,$D$10*H20*0.8,$D$10*H20*0.8*0) -> 0 | J20: =IF(H20>4.5/100,NOMINATIVI!$H$29,NOMINATIVI!$H$28) -> √ | M20: =D7 -> 80688 | O20: 0 | R20: =(O20/M20)-1 -> -1
C21: (**) ripartizione rimodulata ai sensi dell'art. 2 c.7 del Regolamento | F21: DEC | G21: LOIACONO Graziana | H21: =IF(G21=NOMINATIVI!B37,0,IF(G21=G8,(0.25-H23-H24-H22)*0.9,0.25-H23-H24-H22)) -> 0.25 | I21: =$D$10*H21*0.8 -> 322.752 | J21: =_xlfn.IFS(H21<0,NOMINATIVI!$H$29,H21>0.25,NOMINATIVI!$H$29,H21<0.25,NOMINATIVI!$H$28,H21>0,NOMINATIVI!$H$28) -> √ | M21: Motivazioni
G22: - | H22: 0 | I22: =IF(G22=NOMINATIVI!B36,($D$10*H22*0.8*0),($D$10*H22*0.8)) -> 0 | J22: =IF(H22>25/100,NOMINATIVI!$H$29,NOMINATIVI!$H$28) -> √
C23: (***) quota determinata nel rispetto delle riduzioni ed abbattimenti dell'art. 4 e 9 del Regolamento | G23: - | H23: 0 | I23: =IF(G23=NOMINATIVI!B37,($D$10*H23*0.8*0),($D$10*H23*0.8)) -> 0 | J23: =IF(H23>25/100,NOMINATIVI!$H$29,NOMINATIVI!$H$28) -> √
F24: =IF(H24=0,NOMINATIVI!I11,NOMINATIVI!H11) -> n/a | G24: - | H24: 0 | I24: =IF(G24=NOMINATIVI!B37,($D$10*H24*0.8*0),($D$10*H24*0.8)) -> 0 | J24: =IF(H24>25/100,NOMINATIVI!$H$29,NOMINATIVI!$H$28) -> √
C25: (*) l'eventuale individuazione della risorsa è rimessa alla fase specifica con attribuzione dell'aliquota di competenza, valutata in funzione della complessità, strategicità e valore dell'intervento quale quota-parte dell'aliquota complessiva prevista per l'attività. | F25: CS | G25: TROIANI Claudia | H25: =0.1-H26-H27 -> 0.1 | I25: =IF($D$18=NOMINATIVI!$E$4,$D$10*H25*0.8,$D$10*H25*0.8*0.5) -> 129.1008 | J25: =_xlfn.IFS(H25<0,NOMINATIVI!$H$29,H25>0.1,NOMINATIVI!$H$29,H25<0.1,NOMINATIVI!$H$28,H25>0,NOMINATIVI!$H$28) -> √
G26: - | H26: 0 | I26: =IF($D$18=NOMINATIVI!$E$4,$D$10*H26*0.8,$D$10*H26*0.8*0.5) -> 0 | J26: =IF(H26>10/100,NOMINATIVI!$H$29,NOMINATIVI!$H$28) -> √
G27: - | H27: 0 | I27: =IF($D$18=NOMINATIVI!$E$4,$D$10*H27*0.8,$D$10*H27*0.8*0.5) -> 0 | J27: =IF(H27>10/100,NOMINATIVI!$H$29,NOMINATIVI!$H$28) -> √
G28: (***) | H28: =SUM(H8:H27) -> 0.989 | I28: =SUM(I8:I27) -> 1276.8069
C31: Fase di PROGRAMMAZIONE
C32: RUOLI | D32: Incaricato | E32: Quota FASE | F32: IMPORTO Lordo | G32: Inps/cpdel | H32: Irap | I32: Inail | J32: LIQUIDABILE | M32: =G8 -> LEONE Luca
C33: RUP | D33: =G8 -> LEONE Luca | E33: 0.5 | F33: =_xlfn.IFS($W$9=$X$9,E33*I8*0.9,$W$9=$X$10,E33*I8*0.7,$W$9=$X$11,E33*I8*0.5,$W$9=$X$12,E33*I8) -> 148.46592 | G33: =TRUNC(IF(COUNTIF(NOMINATIVI!$S$5:$S$28,D33)>0,F33*23.8/NOMINATIVI!$H$36,F33*23.8/NOMINATIVI!$H$35),4) -> 28.4637 | H33: =TRUNC(J33*8.5/100,3) -> 10.166 | I33: =TRUNC(IF(COUNTIF(NOMINATIVI!$S$5:$S$28,D33)>0,F33*NOMINATIVI!$K$36/NOMINATIVI!$H$36,F33*NOMINATIVI!$K$35/NOMINATIVI!$H$35),2) -> 0.4 | J33: =F33-G33-I33 -> 119.60222 | M33: CUC
C34: _RP AFFIDAMENTO | D34: =G9 -> LEONE Luca | F34: =_xlfn.IFS($W$9=$X$9,E34*I9*0.9,$W$9=$X$10,E34*I9*0.7,$W$9=$X$11,E34*I9*0.5,$W$9=$X$12,E34*I9) -> 0 | G34: =TRUNC(IF(COUNTIF(NOMINATIVI!$S$5:$S$28,D34)>0,F34*23.8/NOMINATIVI!$H$36,F34*23.8/NOMINATIVI!$H$35),4) -> 0 | H34: =TRUNC(J34*8.5/100,3) -> 0 | I34: =TRUNC(IF(COUNTIF(NOMINATIVI!$S$5:$S$28,D34)>0,F34*NOMINATIVI!$K$36/NOMINATIVI!$H$36,F34*NOMINATIVI!$K$35/NOMINATIVI!$H$35),2) -> 0 | J34: =F34-G34-I34 -> 0
C35: _RP ESECUZIONE | D35: =G10 -> TROIANI Claudia | F35: =_xlfn.IFS($W$9=$X$9,E35*I10*0.9,$W$9=$X$10,E35*I10*0.7,$W$9=$X$11,E35*I10*0.5,$W$9=$X$12,E35*I10) -> 0 | G35: =TRUNC(IF(COUNTIF(NOMINATIVI!$S$5:$S$28,D35)>0,F35*23.8/NOMINATIVI!$H$36,F35*23.8/NOMINATIVI!$H$35),4) -> 0 | H35: =TRUNC(J35*8.5/100,3) -> 0 | I35: =TRUNC(IF(COUNTIF(NOMINATIVI!$S$5:$S$28,D35)>0,F35*NOMINATIVI!$K$36/NOMINATIVI!$H$36,F35*NOMINATIVI!$K$35/NOMINATIVI!$H$35),2) -> 0 | J35: =F35-G35-I35 -> 0
C36: PSI | D36: =G11 -> LEONE Luca | E36: 1 | F36: =_xlfn.IFS($W$9=$X$9,E36*I11*0.9,$W$9=$X$10,E36*I11*0.7,$W$9=$X$11,E36*I11*0.5,$W$9=$X$12,E36*I11) -> 64.5504 | G36: =TRUNC(IF(COUNTIF(NOMINATIVI!$S$5:$S$28,D36)>0,F36*23.8/NOMINATIVI!$H$36,F36*23.8/NOMINATIVI!$H$35),4) -> 12.3755 | H36: =TRUNC(J36*8.5/100,3) -> 4.42 | I36: =TRUNC(IF(COUNTIF(NOMINATIVI!$S$5:$S$28,D36)>0,F36*NOMINATIVI!$K$36/NOMINATIVI!$H$36,F36*NOMINATIVI!$K$35/NOMINATIVI!$H$35),2) -> 0.17 | J36: =F36-G36-I36 -> 52.0049
C37: PG | D37: =G12 -> LEONE Luca | E37: 0.3 | F37: =_xlfn.IFS($W$9=$X$9,0.3*I12*0.9,$W$9=$X$10,0.3*I12*0.7,$W$9=$X$11,0.3*I12*0.5,$W$9=$X$12,0.3*I12) -> 38.73024 | G37: =TRUNC(IF(COUNTIF(NOMINATIVI!$S$5:$S$28,D37)>0,F37*23.8/NOMINATIVI!$H$36,F37*23.8/NOMINATIVI!$H$35),4) -> 7.4253 | H37: =TRUNC(J37*8.5/100,3) -> 2.652 | I37: =TRUNC(IF(COUNTIF(NOMINATIVI!$S$5:$S$28,D37)>0,F37*NOMINATIVI!$K$36/NOMINATIVI!$H$36,F37*NOMINATIVI!$K$35/NOMINATIVI!$H$35),2) -> 0.1 | J37: =F37-G37-I37 -> 31.20494
D38: =G13 -> - | F38: =_xlfn.IFS($W$9=$X$9,0.3*I13*0.9,$W$9=$X$10,0.3*I13*0.7,$W$9=$X$11,0.3*I13*0.5,$W$9=$X$12,0.3*I13) -> 0 | G38: =TRUNC(IF(COUNTIF(NOMINATIVI!$S$5:$S$28,D38)>0,F38*23.8/NOMINATIVI!$H$36,F38*23.8/NOMINATIVI!$H$35),4) -> 0 | H38: =TRUNC(J38*8.5/100,3) -> 0 | I38: =TRUNC(IF(COUNTIF(NOMINATIVI!$S$5:$S$28,D38)>0,F38*NOMINATIVI!$K$36/NOMINATIVI!$H$36,F38*NOMINATIVI!$K$35/NOMINATIVI!$H$35),2) -> 0 | J38: =F38-G38-I38 -> 0
D39: =G14 -> - | F39: =_xlfn.IFS($W$9=$X$9,0.3*I14*0.9,$W$9=$X$10,0.3*I14*0.7,$W$9=$X$11,0.3*I14*0.5,$W$9=$X$12,0.3*I14) -> 0 | G39: =TRUNC(IF(COUNTIF(NOMINATIVI!$S$5:$S$28,D39)>0,F39*23.8/NOMINATIVI!$H$36,F39*23.8/NOMINATIVI!$H$35),4) -> 0 | H39: =TRUNC(J39*8.5/100,3) -> 0 | I39: =TRUNC(IF(COUNTIF(NOMINATIVI!$S$5:$S$28,D39)>0,F39*NOMINATIVI!$K$36/NOMINATIVI!$H$36,F39*NOMINATIVI!$K$35/NOMINATIVI!$H$35),2) -> 0 | J39: =F39-G39-I39 -> 0
C40: VPCPA | D40: =G15 -> LEONE Luca | E40: 0 | F40: =IF($W$9=$X$9,(I15*E40)*0.9,I15*E40) -> 0 | G40: =TRUNC(IF(COUNTIF(NOMINATIVI!$S$5:$S$28,D40)>0,F40*23.8/NOMINATIVI!$H$36,F40*23.8/NOMINATIVI!$H$35),4) -> 0 | H40: =TRUNC(J40*8.5/100,3) -> 0 | I40: =TRUNC(IF(COUNTIF(NOMINATIVI!$S$5:$S$28,D40)>0,F40*NOMINATIVI!$K$36/NOMINATIVI!$H$36,F40*NOMINATIVI!$K$35/NOMINATIVI!$H$35),2) -> 0 | J40: =F40-G40-I40 -> 0
C41: VPCPAcuc | D41: =G16 -> LEONE Luca | E41: 0 | F41: =IF($W$9=$X$9,(I16*E41)*0.9,I16*E41) -> 0 | G41: =TRUNC(IF(COUNTIF(NOMINATIVI!$S$5:$S$28,D41)>0,F41*23.8/NOMINATIVI!$H$36,F41*23.8/NOMINATIVI!$H$35),4) -> 0 | H41: =TRUNC(J41*8.5/100,3) -> 0 | I41: =TRUNC(IF(COUNTIF(NOMINATIVI!$S$5:$S$28,D41)>0,F41*NOMINATIVI!$K$36/NOMINATIVI!$H$36,F41*NOMINATIVI!$K$35/NOMINATIVI!$H$35),2) -> 0 | J41: =F41-G41-I41 -> 0
D42: =G17 -> LEONE Luca | F42: =IF($W$9=$X$9,(I17*E42)*0.9,I17*E42) -> 0 | G42: =TRUNC(IF(COUNTIF(NOMINATIVI!$S$5:$S$28,D42)>0,F42*23.8/NOMINATIVI!$H$36,F42*23.8/NOMINATIVI!$H$35),4) -> 0 | H42: =TRUNC(J42*8.5/100,3) -> 0 | I42: =TRUNC(IF(COUNTIF(NOMINATIVI!$S$5:$S$28,D42)>0,F42*NOMINATIVI!$K$36/NOMINATIVI!$H$36,F42*NOMINATIVI!$K$35/NOMINATIVI!$H$35),2) -> 0 | J42: =F42-G42-I42 -> 0
F43: =IF($W$9=$X$9,(I18*E43)*0.9,I18*E43) -> 0 | G43: =TRUNC(IF(COUNTIF(NOMINATIVI!$S$5:$S$28,D43)>0,F43*23.8/NOMINATIVI!$H$36,F43*23.8/NOMINATIVI!$H$35),4) -> 0 | H43: =TRUNC(J43*8.5/100,3) -> 0 | I43: =TRUNC(IF(COUNTIF(NOMINATIVI!$S$5:$S$28,D43)>0,F43*NOMINATIVI!$K$36/NOMINATIVI!$H$36,F43*NOMINATIVI!$K$35/NOMINATIVI!$H$35),2) -> 0 | J43: =F43-G43-I43 -> 0
F44: =IF($W$9=$X$9,(I19*E44)*0.9,I19*E44) -> 0 | G44: =TRUNC(IF(COUNTIF(NOMINATIVI!$S$5:$S$28,D44)>0,F44*23.8/NOMINATIVI!$H$36,F44*23.8/NOMINATIVI!$H$35),4) -> 0 | H44: =TRUNC(J44*8.5/100,3) -> 0 | I44: =TRUNC(IF(COUNTIF(NOMINATIVI!$S$5:$S$28,D44)>0,F44*NOMINATIVI!$K$36/NOMINATIVI!$H$36,F44*NOMINATIVI!$K$35/NOMINATIVI!$H$35),2) -> 0 | J44: =F44-G44-I44 -> 0
D45: =G19 -> TROIANI Claudia | F45: =IF($W$9=$X$9,(I20*E45)*0.9,I20*E45) -> 0 | G45: =TRUNC(IF(COUNTIF(NOMINATIVI!$S$5:$S$28,D45)>0,F45*23.8/NOMINATIVI!$H$36,F45*23.8/NOMINATIVI!$H$35),4) -> 0 | H45: =TRUNC(J45*8.5/100,3) -> 0 | I45: =TRUNC(IF(COUNTIF(NOMINATIVI!$S$5:$S$28,D45)>0,F45*NOMINATIVI!$K$36/NOMINATIVI!$H$36,F45*NOMINATIVI!$K$35/NOMINATIVI!$H$35),2) -> 0 | J45: =F45-G45-I45 -> 0
...

Sheet NOMINATIVI
Z2: STT_2026_00022
B3: LEONE Luca | E3: SI | S3: BIGAGNOLI Chiara
B4: TROIANI Claudia | E4: NO | S4: BRESSAN Angela
B5: GIUSTINO Andrea | S5: CAPPELLINO Girolamo
B6: AVANZO Pasquale | G6: COMPETENZE | J6: ALIQUOTA INC. | S6: CARMINATI Alessandro
B7: LOIACONO Graziana | G7: RUP | H7: _RP AFFIDAMENTO (*) | I7: n/a | J7: 0.02 | K7: 0.019 | S7: CASOLATI Alberto
B8: CAVENAGHI Ivan | G8: 0.3 | H8: _RP ESECUZIONE (*) | I8: n/a | J8: 0.05 | K8: 0.02 | S8: CAVENAGHI Ivan
B9: COLOMBO Francesca | G9: 0.7 | H9: _CSP (*) | I9: n/a | J9: 0.05 | K9: 0.04 | S9: COLOMBO Francesca
B10: CONSOLATI Francesco | H10: _CSE (*) | I10: n/a | J10: 0.02 | K10: 0.02 | S10: CONSOLATI Francesco
B11: IELASI Paola | E11: Riduzioni Applicate | H11: _VERIFICA CONF. (*) | I11: n/a | J11: 0.05 | K11: 0.05 | S11: IELASI Paola
B12: TEDDE Giovanna | S12: TEDDE Giovanna
B13: FRONZUTI Riccardo | S13: FRONZUTI Riccardo
B14: GARLASCHI Annalisa | S14: GARLASCHI Annalisa
B15: GUALANDI Angelo | S15: GUALANDI Angelo
B16: LAURETTI Francesca | E16: -0.3 | S16: LAURETTI Francesca
B17: LOIACONO Graziana | E17: -0.5 | S17: LOIACONO Graziana
B18: LOMBARDO Dario | E18: -0.8 | S18: LOMBARDO Dario
B19: LOVAGLIO Lorenzo | E19: -1 | S19: LOVAGLIO Lorenzo
B20: LUCARELLI Francesca | E20: 0 | S20: LUCARELLI Francesca
B21: MARTIGNAGO Tatiana | E21: -0.5 | S21: MARTIGNAGO Tatiana
B22: MASI Gianluca | S22: MASI Gianluca
B23: MELILLO Fabio | M23: 1500 | N23: =100+23.8+8.5+0.0035 -> 132.3035 | O23: =M23*P23/N23 -> 1133.7569 | P23: 100 | S23: MELILLO Fabio
B24: MONICO Stefano | S24: MONICO Stefano
B25: MURGOLO Ezio | S25: MURGOLO Ezio
B26: ORLANDI Barbara | S26: ORLANDI Barbara
B27: SALCICCIA Lorenzo | O27: =O23*23.8/100 -> 269.83413 | S27: SALCICCIA Lorenzo
B28: SCHILLACI Fabrizio | H28: √ | O28: =O23*8.5/100 -> 96.369333 | S28: SCHILLACI Fabrizio
B29: SENTIERO Monica | H29: ! | O29: =O23*0.0035 -> 3.968149 | S29: SENTIERO Monica
B30: SPINELLI Valentina | S30: SPINELLI Valentina
B31: TOLOMEI Rossella | S31: TOLOMEI Rossella
B32: TOSI Pierangelo | E32: =+#REF! -> #REF! | S32: TOSI Pierangelo
B33: TURRINI Mauro | E33: CUC | S33: TURRINI Mauro
B34: Polizia Locale | H34: Aliquote per Totale | K34: INAIL | S34: Polizia Locale
B35: ZUCCHI Carmen | H35: =100+(23.8+K35) -> 124.14 | K35: 0.34 | S35: ZUCCHI Carmen
B36: BRANCA Marta | H36: =100+(23.8+K36) -> 124.882 | K36: 1.082 | S36: BRANCA Marta
B37: ESTERNO | S37: ESTERNO
B38: CUC | S38: CUC
B39: - | S39: -
S40: tot
S41: Determina liquidazione (programm./affidamento)
...
